BEGIN:VCALENDAR
VERSION:2.0
PRODID:-//ChamberMaster//Event Calendar 2.0//EN
METHOD:PUBLISH
X-PUBLISHED-TTL:P3D
REFRESH-INTERVAL:P3D
CALSCALE:GREGORIAN
BEGIN:VEVENT
DTSTART:20180428T130000Z
DTEND:20180428T161500Z
X-MICROSOFT-CDO-ALLDAYEVENT:FALSE
SUMMARY:March for Babies- March of Dimes
DESCRIPTION:Nearly 4 million babies are born in the U.S. every year\, and each one needs us. The money you raise will be a lifeline for moms and babies near you and across the country. Join more than 1\,500 people at the Quad Cities walk in support of moms at every stage from preconception to post-delivery with research\, programs and education - and it all comes together with a celebration at March for Babies on Saturday\, April 28th This event wouldn't be possible without our amazing event chair\, Mellissa Wood! Her and our presenting sponsor\, UnityPoint Health-Trinity\, have been a force for shaping this event and their support and partnership with the March of Dimes is crucial to our mission and the success of this event. Don't forget to sign all kids up for the HERO run that takes place right before the walk begins. Make sure to hang around after the walk for the UnitedHealthcare sponsored Family Fun Zone - complete with games\, face painters\, balloon animals\, activities\, and a bounce house!
X-ALT-DESC;FMTTYPE=text/html:Nearly 4 million babies are born in the U.S. every year\, and each one needs us. The money you raise will be a lifeline for moms and babies near you and across the country. Join more than 1\,500 people at the Quad Cities walk in support of moms at every stage from preconception to post-delivery with research\, programs and education - and it all comes together with a celebration at March for Babies on Saturday\, April 28th This event wouldn&#39\;t be possible without our amazing event chair\, Mellissa Wood! Her and our presenting sponsor\, UnityPoint Health-Trinity\, have been a force for shaping this event and their support and partnership with the March of Dimes is crucial to our mission and the success of this event. Don&rsquo\;t forget to sign all kids up for the HERO run that takes place right before the walk begins. Make sure to hang around after the walk for the UnitedHealthcare sponsored Family Fun Zone - complete with games\, face painters\, balloon animals\, activities\, and a bounce house!
LOCATION:Modern Woodmen Park 209 S Gaines St\, Davenport IA
UID:e.2843.13174
SEQUENCE:3
DTSTAMP:20260423T123125Z
URL:https://member.quadcitieschamber.com/events/details/march-for-babies-march-of-dimes-13174
END:VEVENT

END:VCALENDAR
