BEGIN:VCALENDAR
VERSION:2.0
PRODID:-//ChamberMaster//Event Calendar 2.0//EN
METHOD:PUBLISH
X-PUBLISHED-TTL:P3D
REFRESH-INTERVAL:P3D
CALSCALE:GREGORIAN
BEGIN:VEVENT
DTSTART:20190323T001000Z
DTEND:20190323T030000Z
X-MICROSOFT-CDO-ALLDAYEVENT:FALSE
SUMMARY:March of Dimes at Quad City Storm
DESCRIPTION:Join the Quad City Storm as they take on the Peoria Riverman. A portion of the ticket proceeds will benefit the March of Dimes. $5 of $15 ticket and $8 of $20 returned to March of Dimes. https://www.fevo.com/edp/March-of-Dimes-2uPas8Ax
X-ALT-DESC;FMTTYPE=text/html:Join the Quad City Storm as they take on the Peoria Riverman. A portion of the ticket proceeds will benefit the March of Dimes. $5 of $15 ticket and $8 of $20 returned to March of Dimes. https://www.fevo.com/edp/March-of-Dimes-2uPas8Ax
LOCATION:TaxSlayer Center
UID:e.2843.13833
SEQUENCE:3
DTSTAMP:20260422T182754Z
URL:https://member.quadcitieschamber.com/events/details/march-of-dimes-at-quad-city-storm-13833
END:VEVENT

END:VCALENDAR
