BEGIN:VCALENDAR
VERSION:2.0
PRODID:-//ChamberMaster//Event Calendar 2.0//EN
METHOD:PUBLISH
X-PUBLISHED-TTL:P3D
REFRESH-INTERVAL:P3D
CALSCALE:GREGORIAN
BEGIN:VEVENT
DTSTART:20190403T160000Z
DTEND:20190404T000000Z
X-MICROSOFT-CDO-ALLDAYEVENT:FALSE
SUMMARY:March of Dimes Donate & Play
DESCRIPTION:Come to Rhythm City! Every Wednesday in April\, donate to March of Dimes and receive free slot play. It pays to be generous! $10 Donation = $10 Free Slot Play $20 Donation = $30 Free Slot Play
X-ALT-DESC;FMTTYPE=text/html:Come to Rhythm City! Every Wednesday in April\, donate to March of Dimes and receive free slot play. It pays to be generous! $10 Donation = $10 Free Slot Play $20 Donation = $30 Free Slot Play
LOCATION:Rhythm City Casino
UID:e.2843.13824
SEQUENCE:3
DTSTAMP:20260422T163909Z
URL:https://member.quadcitieschamber.com/events/details/march-of-dimes-donate-play-13824
END:VEVENT

END:VCALENDAR
