BEGIN:VCALENDAR
VERSION:2.0
PRODID:-//ChamberMaster//Event Calendar 2.0//EN
METHOD:PUBLISH
X-PUBLISHED-TTL:P3D
REFRESH-INTERVAL:P3D
CALSCALE:GREGORIAN
BEGIN:VEVENT
DTSTART:20190427T130000Z
DTEND:20190427T160000Z
X-MICROSOFT-CDO-ALLDAYEVENT:FALSE
SUMMARY:March of Dimes March for Babies
DESCRIPTION:March for Babies is March of Dimes annual fundraising event. More than 1500 people from the Quad Cities join together to fundraise and walk to honor\, celebrate and remember the babies in their lives. Anyone and everyone can participate. March for Babies is the place to connect with members of our community who care about the health of babies. This is a family fun 3.25 mile walk for all ages with no registration fee to participate. Kids can enjoy the HERO run and a Family Fun Zone complete with games\, face painters\, balloon animals\, and bounce houses. March with us and together we will make a statement that we want to live in a world in which healthy moms and strong babies are a priority. Register as a walker and start a team today!
X-ALT-DESC;FMTTYPE=text/html:March for Babies is March of Dimes annual fundraising event. More than 1500 people from the Quad Cities join together to fundraise and walk to honor\, celebrate and remember the babies in their lives. Anyone and everyone can participate. March for Babies is the place to connect with members of our community who care about the health of babies. This is a family fun 3.25 mile walk for all ages with no registration fee to participate. Kids can enjoy the HERO run and a Family Fun Zone complete with games\, face painters\, balloon animals\, and bounce houses. March with us and together we will make a statement that we want to live in a world in which healthy moms and strong babies are a priority. Register as a walker and start a team today!
LOCATION:Due to flooding the venue has changed to: Mississippi Valley Fairgrounds 2815 Locust Street Davenport\, IA 52804
UID:e.2843.13811
SEQUENCE:3
DTSTAMP:20260422T164016Z
URL:https://member.quadcitieschamber.com/events/details/march-of-dimes-march-for-babies-13811
END:VEVENT

END:VCALENDAR
