BEGIN:VCALENDAR
VERSION:2.0
PRODID:-//ChamberMaster//Event Calendar 2.0//EN
METHOD:PUBLISH
X-PUBLISHED-TTL:P3D
REFRESH-INTERVAL:P3D
CALSCALE:GREGORIAN
BEGIN:VEVENT
DTSTART:20120330T233000Z
DTEND:20120331T030000Z
X-MICROSOFT-CDO-ALLDAYEVENT:FALSE
SUMMARY:mARTch madness
DESCRIPTION:mARTch madness ensues on Friday\, March 30th at Modern Woodmen Park in Davenport\, IA! Get out your poodle skirts\, bobby sox and saddle shoes or raid your parent’s closet to create your 50’s look. Enjoya retro dinner buffet\, Rock n’ Roll\, cash bar\, neat-o art\, games and more. The object of the madness will be to collect the most artwork for your personal collection and help Quad City Arts sustain the Visual Arts Program.\n\nTickets are $30 each\, in advance\, $40 at the door\, or $200 for a table of8 (reservations required for tables)\, and may be purchased through our website: www.quadcityarts.com or by calling Jessi at 309-793-1213\, X 103.
X-ALT-DESC;FMTTYPE=text/html:mARTch madness ensues on Friday\, March 30th at Modern Woodmen Park in Davenport\, IA! Get out your poodle skirts\, bobby sox and saddle shoes or raid your parent’s closet to create your 50’s look. Enjoya retro dinner buffet\, Rock n’ Roll\, cash bar\, neat-o art\, games and more. The object of the madness will be to collect the most artwork for your personal collection and help Quad City Arts sustain the Visual Arts Program.\n\nTickets are $30 each\, in advance\, $40 at the door\, or $200 for a table of8 (reservations required for tables)\, and may be purchased through our website: www.quadcityarts.com or by calling Jessi at 309-793-1213\, X 103.
LOCATION:Modern Woodmen Park209 S. Gaines St. Davenport\, IA 52802
UID:e.2843.108
SEQUENCE:3
DTSTAMP:20260420T103156Z
URL:https://member.quadcitieschamber.com/events/details/martch-madness-03-30-2012-108
END:VEVENT

END:VCALENDAR
