BEGIN:VCALENDAR
VERSION:2.0
PRODID:-//ChamberMaster//Event Calendar 2.0//EN
METHOD:PUBLISH
X-PUBLISHED-TTL:P3D
REFRESH-INTERVAL:P3D
CALSCALE:GREGORIAN
BEGIN:VEVENT
DTSTART:20120906T190000Z
DTEND:20120906T193000Z
X-MICROSOFT-CDO-ALLDAYEVENT:FALSE
SUMMARY:Massage Envy Grand Opening & Ribbon Cutting
DESCRIPTION:Please help celebrate the grand opening and ribbon cutting for new member\, Massage Envy\, on Thursday\, September 6\, 2012 at 2:00pm.  Located at 5302 Elmore Ave. – NW corner of 53rd and Elmore (same strip as Qdoba).  Complimentary chair massages will be offered at time of ribbon cutting. Massage Envy Spa offers both unique skin care treatments and rejuvenating massage therapy – administered by professional estheticians and massage therapists.  Treatments are available at convenient times\, even on weeknights and weekends.  They will be offering $49.00 introductory customized massage or a $59.00 healthy skin facial featuring Murad products.  The state-of-the-art 2\,500 square-foot clinic has 10 therapy rooms and is located in the Pheasant Creek Shopping Mall.  Hours are 8:00am – 10:00pm\, Monday through Friday\, 8:00am – 6:00pm Saturday\, and 10:00am – 6:00pm on Sundays. For more information\, please visit www.MassageEnvy.com
X-ALT-DESC;FMTTYPE=text/html:<P style="MARGIN: 0in 0in 0pt" class=MsoNormal><FONT face=Calibri>Please help celebrate the grand opening and ribbon cutting for new member\, Massage Envy\, on Thursday\, September 6\, 2012 at 2:00pm.<SPAN style="mso-spacerun: yes">&nbsp\; </SPAN>Located at 5302 Elmore Ave. – NW corner of 53<SUP>rd</SUP> and Elmore (same strip as Qdoba).<SPAN style="mso-spacerun: yes">&nbsp\; </SPAN>Complimentary chair massages will be offered at time of ribbon cutting.</FONT></P><P style="MARGIN: 0in 0in 0pt" class=MsoNormal><?xml:namespace prefix = o ns = "urn:schemas-microsoft-com:office:office" /><o:p><FONT face=Calibri>&nbsp\;</FONT></o:p></P><P style="MARGIN: 0in 0in 0pt" class=MsoNormal><FONT face=Calibri>Massage Envy Spa offers both unique skin care treatments and rejuvenating massage therapy – administered by professional estheticians and massage therapists.<SPAN style="mso-spacerun: yes">&nbsp\; </SPAN>Treatments are available at convenient times\, even on weeknights and weekends.<SPAN style="mso-spacerun: yes">&nbsp\; </SPAN>They will be offering $49.00 introductory customized massage or a $59.00 healthy skin facial featuring Murad products.<SPAN style="mso-spacerun: yes">&nbsp\; </SPAN>The state-of-the-art 2\,500 square-foot clinic has 10 therapy rooms and is located in the Pheasant&nbsp\;Creek Shopping Mall.<SPAN style="mso-spacerun: yes">&nbsp\; </SPAN>Hours are 8:00am – 10:00pm\, Monday through Friday\, 8:00am – 6:00pm Saturday\, and 10:00am – 6:00pm on Sundays.</FONT></P><P style="MARGIN: 0in 0in 0pt" class=MsoNormal><o:p><FONT face=Calibri>&nbsp\;</FONT></o:p></P><P style="MARGIN: 0in 0in 0pt" class=MsoNormal><FONT face=Calibri>For more information\, please visit </FONT><A href="http://www.MassageEnvy.com">www.MassageEnvy.com</A><FONT face=Calibri> </FONT></P><DIV style="FONT-FAMILY: Arial">&nbsp\;</DIV>
LOCATION:Massage Envy Spa5302 Elmore Avenue Davenport\, IA 52807
UID:e.2843.419
SEQUENCE:3
DTSTAMP:20260421T184509Z
URL:https://member.quadcitieschamber.com/events/details/massage-envy-grand-opening-ribbon-cutting-09-06-2012-419
END:VEVENT

END:VCALENDAR
