BEGIN:VCALENDAR
VERSION:2.0
PRODID:-//ChamberMaster//Event Calendar 2.0//EN
METHOD:PUBLISH
X-PUBLISHED-TTL:P3D
REFRESH-INTERVAL:P3D
CALSCALE:GREGORIAN
BEGIN:VEVENT
DTSTART:20130503T150000Z
DTEND:20130503T153000Z
X-MICROSOFT-CDO-ALLDAYEVENT:FALSE
SUMMARY:Matthew Casillas Agency LLC - State Farm Insurance Ribbon Cutting
DESCRIPTION:In conjunction with the Greater Quad Cities Hispanic Chamber of Commerce\, please help celebrate new business Matthew Casillas LLC – State Farm Insurance with a Ribbon Cutting on Friday\, May 3rd at 10:00am – Located at 102 E. Kimberly Road\, Suite J\, Davenport. Matthew Casillas Agency LLC sells insurance and financial services in the Quad Cities.  Matthew meets all clients at their work or house\, with over 19 years of insurance experience. For more information\, please visit www.matthewcasillas.com.
X-ALT-DESC;FMTTYPE=text/html:<P style="MARGIN: 0in 0in 0pt" class=MsoNormal><FONT face=Calibri>In conjunction with the Greater Quad Cities Hispanic Chamber of Commerce\, please help celebrate new business Matthew Casillas LLC – State Farm Insurance with a Ribbon Cutting on <B>Friday\, May 3<SUP>rd</SUP> at 10:00am</B> – Located at 102 E. Kimberly Road\, Suite J\, Davenport.</FONT></P><P style="MARGIN: 0in 0in 0pt" class=MsoNormal><?xml:namespace prefix = o ns = "urn:schemas-microsoft-com:office:office" /><o:p><FONT face=Calibri>&nbsp\;</FONT></o:p></P><P style="MARGIN: 0in 0in 0pt" class=MsoNormal><FONT face=Calibri>Matthew Casillas Agency LLC sells insurance and financial services in the Quad Cities.&nbsp\; Matthew meets all clients at their work or house\, with over 19 years of insurance experience.</FONT></P><P style="MARGIN: 0in 0in 0pt" class=MsoNormal><o:p><FONT face=Calibri>&nbsp\;</FONT></o:p></P><P style="MARGIN: 0in 0in 0pt" class=MsoNormal><FONT face=Calibri>For more information\, please visit </FONT><A href="http://www.matthewcasillas.com"><FONT face=Calibri>www.matthewcasillas.com</FONT></A><FONT face=Calibri>.</FONT></P><DIV style="FONT-FAMILY: Arial">&nbsp\;</DIV>
LOCATION:Matthew Casillas LLC\, State Farm102 E. Kimberly Rd. Suite J Davenport\, IA 52806
UID:e.2843.553
SEQUENCE:3
DTSTAMP:20260421T121637Z
URL:https://member.quadcitieschamber.com/events/details/matthew-casillas-agency-llc-state-farm-insurance-ribbon-cutting-05-03-2013-553
END:VEVENT

END:VCALENDAR
