BEGIN:VCALENDAR
VERSION:2.0
PRODID:-//ChamberMaster//Event Calendar 2.0//EN
METHOD:PUBLISH
X-PUBLISHED-TTL:P3D
REFRESH-INTERVAL:P3D
CALSCALE:GREGORIAN
BEGIN:VEVENT
DTSTART:20110518T121500Z
DTEND:20110518T133000Z
X-MICROSOFT-CDO-ALLDAYEVENT:FALSE
SUMMARY:May Morning Network
DESCRIPTION:Learn. Laugh. Connect. Jumpstart your day at Morning Network! This dynamic\, monthly event attracts 100+ people and includes power networking\, the SCORE business tip of the month and community-related news briefs.
X-ALT-DESC;FMTTYPE=text/html:Learn. Laugh. Connect. Jumpstart your day at Morning Network! This dynamic\, monthly event attracts 100+ people and includes power networking\, the SCORE business tip of the month and community-related news briefs.
LOCATION:Sam's Club3887 Elmore Avenue Davenport\, IA 52807
UID:e.2843.167
SEQUENCE:3
DTSTAMP:20260423T005454Z
URL:https://member.quadcitieschamber.com/events/details/may-morning-network-05-18-2011-167
END:VEVENT

END:VCALENDAR
