BEGIN:VCALENDAR
VERSION:2.0
PRODID:-//ChamberMaster//Event Calendar 2.0//EN
METHOD:PUBLISH
X-PUBLISHED-TTL:P3D
REFRESH-INTERVAL:P3D
CALSCALE:GREGORIAN
BEGIN:VEVENT
DTSTART:20170413T200000Z
DTEND:20170413T230000Z
X-MICROSOFT-CDO-ALLDAYEVENT:FALSE
SUMMARY:Mayor Klipsch's Annual Youth Job Fair
DESCRIPTION:Mayor Klipsch and the City of Davenport are partnering with IowaWorks to bring local businesses together for a one-stop-source for teens to find employment
X-ALT-DESC;FMTTYPE=text/html:Mayor Klipsch and the City of Davenport are partnering with IowaWorks to bring local businesses together for a one-stop-source for teens to find employment
LOCATION:River Center (South) 136 E 3rd Street Davenport\, IA 52801
UID:e.2843.4743
SEQUENCE:3
DTSTAMP:20260424T045323Z
URL:https://member.quadcitieschamber.com/events/details/mayor-klipsch-s-annual-youth-job-fair-4743
END:VEVENT

END:VCALENDAR
