BEGIN:VCALENDAR
VERSION:2.0
PRODID:-//ChamberMaster//Event Calendar 2.0//EN
METHOD:PUBLISH
X-PUBLISHED-TTL:P3D
REFRESH-INTERVAL:P3D
CALSCALE:GREGORIAN
BEGIN:VEVENT
DTSTART:20120628T140000Z
DTEND:20120628T143000Z
X-MICROSOFT-CDO-ALLDAYEVENT:FALSE
SUMMARY:McDonald's Ribbon Cutting
DESCRIPTION:Please help celebrate new member and new location\, McDonald’s at their ribbon cutting on Thursday\, June 28th at 9:00am – 2185 53rd Avenue\, Bettendorf.
X-ALT-DESC;FMTTYPE=text/html:<DIV style="FONT-FAMILY: Arial"><P style="MARGIN: 0in 0in 0pt" class=MsoNormal><FONT face=Calibri>Please help celebrate new member and new location\, McDonald’s at their ribbon cutting on Thursday\, June 28<SUP>th</SUP> at 9:00am – 2185 53<SUP>rd</SUP> Avenue\, Bettendorf.</FONT></P></DIV>
LOCATION:McDonald's2185 53rd Avenue Bettendorf\, IA 52722
UID:e.2843.396
SEQUENCE:3
DTSTAMP:20260421T235010Z
URL:https://member.quadcitieschamber.com/events/details/mcdonald-s-ribbon-cutting-06-28-2012-396
END:VEVENT

END:VCALENDAR
