BEGIN:VCALENDAR
VERSION:2.0
PRODID:-//ChamberMaster//Event Calendar 2.0//EN
METHOD:PUBLISH
X-PUBLISHED-TTL:P3D
REFRESH-INTERVAL:P3D
CALSCALE:GREGORIAN
BEGIN:VEVENT
DTSTART:20131113T230000Z
DTEND:20131113T233000Z
X-MICROSOFT-CDO-ALLDAYEVENT:FALSE
SUMMARY:Me & Billy Grand Opening
DESCRIPTION:Me & Billy\, located at 200 W. 3rd St. Davenport\, 52801\, will celebrate their grand opening  with a ribbon cutting on Wednesday\, November 13 at 5:00 p.m.  http://mapq.st/17KHp05.  Anne Spoden\, Innovation and Talent Coordinator\, will be speaking on behalf of the Quad Cities Chamber of Commerce.  Me & Billy is a bar that will offer a combination of comfort and style.  Their goal is to enhance a welcoming vibe each and every time a customer walks in the door.  Me & Billy strives to encompass the timeless values of friendly service and a lively atmosphere.  The goal for their menu is to provide food options that everyone will like to eat.  Me & Billy chose to simplified their menu to feature fresh local ingredients and homemade seasonal offerings.  A memorable burger will be the foundation of a menu that appeals to the bar crowd and food connoisseur alike.   Me & Billy will be open Monday through Saturday from 11:00am to 2:00am. For more information please visit www.meandbilly.com.
X-ALT-DESC;FMTTYPE=text/html:<P style="MARGIN: 0in 0in 0pt" class=MsoNormal><?xml:namespace prefix = o ns = "urn:schemas-microsoft-com:office:office" /><o:p><FONT face=Calibri>&nbsp\;</FONT></o:p></P><P style="MARGIN: 0in 0in 0pt" class=MsoNormal><FONT face=Calibri>Me &amp\; Billy\, <B style="mso-bidi-font-weight: normal">located at 200 W. 3<SUP>rd</SUP> St. Davenport\, 52801</B>\, will celebrate their grand opening<SPAN style="mso-spacerun: yes">&nbsp\; </SPAN>with a ribbon cutting on <B style="mso-bidi-font-weight: normal">Wednesday\, November 13 at 5:00 p.m</B>.<SPAN style="mso-spacerun: yes">&nbsp\; </SPAN></FONT><A href="http://mapq.st/17KHp05">http://mapq.st/17KHp05</A><FONT face=Calibri>. <o:p></o:p></FONT></P><P style="MARGIN: 0in 0in 0pt" class=MsoNormal><o:p><FONT face=Calibri>&nbsp\;</FONT></o:p></P><P style="MARGIN: 0in 0in 0pt" class=MsoNormal><FONT face=Calibri>Anne Spoden\, Innovation and Talent Coordinator\, will be speaking on behalf of the Quad Cities Chamber of Commerce. <o:p></o:p></FONT></P><P style="MARGIN: 0in 0in 0pt" class=MsoNormal><o:p><FONT face=Calibri>&nbsp\;</FONT></o:p></P><P style="MARGIN: 0in 0in 0pt" class=MsoNormal><FONT face=Calibri>Me &amp\; Billy is a bar that will offer a combination of comfort and style.<SPAN style="mso-spacerun: yes">&nbsp\; </SPAN>Their goal is to enhance a welcoming vibe each and every time a customer walks in the door.<SPAN style="mso-spacerun: yes">&nbsp\; </SPAN>Me &amp\; Billy strives to encompass the timeless values of friendly service and a lively atmosphere. <o:p></o:p></FONT></P><P style="MARGIN: 0in 0in 0pt" class=MsoNormal><o:p><FONT face=Calibri>&nbsp\;</FONT></o:p></P><P style="MARGIN: 0in 0in 0pt" class=MsoNormal><FONT face=Calibri>The goal for their menu is to provide food options that everyone will like to eat.<SPAN style="mso-spacerun: yes">&nbsp\; </SPAN>Me &amp\; Billy chose to simplified their menu to feature fresh local ingredients and homemade seasonal offerings.<SPAN style="mso-spacerun: yes">&nbsp\; </SPAN>A memorable burger will be the foundation of a menu that appeals to the bar crowd and food connoisseur alike.<SPAN style="mso-spacerun: yes">&nbsp\; </SPAN><o:p></o:p></FONT></P><P style="MARGIN: 0in 0in 0pt" class=MsoNormal><o:p><FONT face=Calibri>&nbsp\;</FONT></o:p></P><P style="MARGIN: 0in 0in 0pt" class=MsoNormal><FONT face=Calibri>Me &amp\; Billy will be open Monday through Saturday from 11:00am to 2:00am. For more information please visit </FONT><A href="http://www.meandbilly.com">www.meandbilly.com</A><FONT face=Calibri>.<SPAN style="mso-spacerun: yes">&nbsp\; </SPAN></FONT><o:p></o:p></P><P>&nbsp\;</P>
LOCATION:Me & Billy {Kitchen and Bar}200 W. 3rd St. Davenport\, IA 52801
UID:e.2843.744
SEQUENCE:3
DTSTAMP:20260421T215820Z
URL:https://member.quadcitieschamber.com/events/details/me-billy-grand-opening-11-13-2013-744
END:VEVENT

END:VCALENDAR
