BEGIN:VCALENDAR
VERSION:2.0
PRODID:-//ChamberMaster//Event Calendar 2.0//EN
METHOD:PUBLISH
X-PUBLISHED-TTL:P3D
REFRESH-INTERVAL:P3D
CALSCALE:GREGORIAN
BEGIN:VEVENT
DTSTART:20181030T180000Z
DTEND:20181030T190000Z
X-MICROSOFT-CDO-ALLDAYEVENT:FALSE
SUMMARY:Medicare Part D Prescription Drug Coverage
DESCRIPTION:Milestones Area Agency on Aging / Senior Health Insurance Information Program (SHIIP)\, will present the annual Medicare Part D and Open Enrollment Informational Meeting.\n\n\n\nLearn more about:\n\n	Medicare Part D and Open Enrollment\n	"Extra Help" programs to pay Medicare costs\n	Special benefits for Medicaid beneficiaries\n	Medicare changes for 2019\n\nSign up to have a personalized Medicare Part D drug comparison. Bring your medicare card and medication bottles or lists with drug names\, dosage amount\, and quantity. After the presentation\, SHIIP Counselors will be available for one-on-one Medicare counseling sessions. Bring your questions!\n\n\n\nCall now to sign-up: 563-359-9171
X-ALT-DESC;FMTTYPE=text/html:Milestones Area Agency on Aging / Senior Health Insurance Information Program (SHIIP)\, will present the annual Medicare Part D and Open Enrollment Informational Meeting.<br />\n<br />\n<strong>Learn more about:</strong>\n<ul>\n	<li><strong>Medicare Part D and Open Enrollment</strong></li>\n	<li><strong>&quot\;Extra Help&quot\; programs to pay Medicare costs</strong></li>\n	<li><strong>Special benefits for Medicaid beneficiaries</strong></li>\n	<li><strong>Medicare changes for 2019</strong></li>\n</ul>\n<strong>Sign up to have a personalized Medicare Part D drug comparison</strong>. Bring your medicare card and medication bottles or lists with drug names\, dosage amount\, and quantity. After the presentation\, SHIIP Counselors will be available <strong>for one-on-one Medicare counseling</strong> sessions. Bring your questions!<br />\n<br />\nCall now to sign-up: 563-359-9171
LOCATION:Iowa Masonic Community Center\, 2500 Grant Street\, Bettendorf\, Iowa 52722 Phone: 563-359-9171
UID:e.2843.13510
SEQUENCE:3
DTSTAMP:20260423T025903Z
URL:https://member.quadcitieschamber.com/events/details/medicare-part-d-prescription-drug-coverage-13510
END:VEVENT

END:VCALENDAR
