BEGIN:VCALENDAR
VERSION:2.0
PRODID:-//ChamberMaster//Event Calendar 2.0//EN
METHOD:PUBLISH
X-PUBLISHED-TTL:P3D
REFRESH-INTERVAL:P3D
CALSCALE:GREGORIAN
BEGIN:VEVENT
DTSTART:20180414T190000Z
DTEND:20180414T210000Z
X-MICROSOFT-CDO-ALLDAYEVENT:FALSE
SUMMARY:Meet the Artist Series
DESCRIPTION:The five newest Iowa Arts Council Fellows are crisscrossing the state this year to display and discuss their work with other Iowa artists and arts supporters. So mark your calendar for this "Meet the Artist" event and say hello to: River Breitbach\, a musician from the Dubuque area who tours the Midwest and produces a video series about Iowa musicians. Jennifer Drinkwater\, a community-art specialist at Iowa State University whose recent projects involve paint and cross-stitch. Jack Meggers\, a Des Moines filmmaker who works in various formats\, including documentaries and music videos\, and is an artist-in-residence at Ballet Des Moines. Lee Emma Running\, who teaches art at Grinnell College and transforms natural materials into surprising works of art. Rachel Yoder\, an Iowa City writer who podcasts interviews with other writers and publishes a literary journal of first and last drafts. 2 p.m.   Artist Talks 3 p.m.   Reception
X-ALT-DESC;FMTTYPE=text/html:The five newest Iowa Arts Council Fellows are crisscrossing the state this year to display and discuss their work with other Iowa artists and arts supporters. So mark your calendar for this &ldquo\;Meet the Artist&rdquo\; event and say hello to: River Breitbach\, a musician from the Dubuque area who tours the Midwest and produces a video series about Iowa musicians. Jennifer Drinkwater\, a community-art specialist at Iowa State University whose recent projects involve paint and cross-stitch. Jack Meggers\, a Des Moines filmmaker who works in various formats\, including documentaries and music videos\, and is an artist-in-residence at Ballet Des Moines. Lee Emma Running\, who teaches art at Grinnell College and transforms natural materials into surprising works of art. Rachel Yoder\, an Iowa City writer who podcasts interviews with other writers and publishes a literary journal of first and last drafts. 2 p.m. &ndash\; Artist Talks 3 p.m. &ndash\; Reception
LOCATION:Figge Art Museum 225 W. 2nd St. Davenport\, Iowa
UID:e.2843.12124
SEQUENCE:3
DTSTAMP:20260423T123104Z
URL:https://member.quadcitieschamber.com/events/details/meet-the-artist-series-12124
END:VEVENT

END:VCALENDAR
