BEGIN:VCALENDAR
VERSION:2.0
PRODID:-//ChamberMaster//Event Calendar 2.0//EN
METHOD:PUBLISH
X-PUBLISHED-TTL:P3D
REFRESH-INTERVAL:P3D
CALSCALE:GREGORIAN
BEGIN:VEVENT
DTSTART:20140919T180000Z
DTEND:20140919T190000Z
X-MICROSOFT-CDO-ALLDAYEVENT:FALSE
SUMMARY:Meet the Candidates Forum for Iowa Governor
DESCRIPTION:Meet the Canidate Forum Senator Jack Hatch- Candidate for Iowa Governor
X-ALT-DESC;FMTTYPE=text/html:<DIV style="FONT-FAMILY: Arial"><P class=MsoNormal style="MARGIN: 0in 0in 0pt"><FONT face=Calibri>Meet the Canidate Forum</FONT></P><P class=MsoNormal style="MARGIN: 0in 0in 0pt"><FONT face=Calibri></FONT>&nbsp\;</P><P class=MsoNormal style="MARGIN: 0in 0in 0pt"><FONT face=Calibri>Senator Jack Hatch- Candidate for Iowa Governor </FONT></P><P class=MsoNormal style="MARGIN: 0in 0in 0pt"><FONT face=Calibri></FONT>&nbsp\;</P><P class=MsoNormal style="MARGIN: 0in 0in 0pt">&nbsp\;</P></DIV>
LOCATION:Genesis Heart Institute\, Adler Education Facility1236 E Rusholme Davenport\, IA
UID:e.2843.850
SEQUENCE:3
DTSTAMP:20260422T160950Z
URL:https://member.quadcitieschamber.com/events/details/meet-the-candidates-forum-for-iowa-governor-09-19-2014-850
END:VEVENT

END:VCALENDAR
