BEGIN:VCALENDAR
VERSION:2.0
PRODID:-//ChamberMaster//Event Calendar 2.0//EN
METHOD:PUBLISH
X-PUBLISHED-TTL:P3D
REFRESH-INTERVAL:P3D
CALSCALE:GREGORIAN
BEGIN:VEVENT
DTSTART:20141017T183000Z
DTEND:20141017T193000Z
X-MICROSOFT-CDO-ALLDAYEVENT:FALSE
SUMMARY:Meet the Candidates Forum: Governor Terry Branstad
DESCRIPTION:
X-ALT-DESC;FMTTYPE=text/html:
LOCATION:Genesis Heart Institute\, Lecture Hall1236 E Rusholme Street Davenport\, IA
UID:e.2843.892
SEQUENCE:3
DTSTAMP:20260422T174621Z
URL:https://member.quadcitieschamber.com/events/details/meet-the-candidates-forum-governor-terry-branstad-10-17-2014-892
END:VEVENT

END:VCALENDAR
