BEGIN:VCALENDAR
VERSION:2.0
PRODID:-//ChamberMaster//Event Calendar 2.0//EN
METHOD:PUBLISH
X-PUBLISHED-TTL:P3D
REFRESH-INTERVAL:P3D
CALSCALE:GREGORIAN
BEGIN:VEVENT
DTSTART:20110608T170000Z
DTEND:20110608T183000Z
X-MICROSOFT-CDO-ALLDAYEVENT:FALSE
SUMMARY:Meet Your Chamber
DESCRIPTION:Learn more about how the Quad Cities Chamber of Commerce allows you access to a broader market of potential customers\, vendors and business contacts.Meet Your Chamber is a FREE event bringing together the Quad Cities Chamber of Commerce’s newest members\, future members and those interested in learning more about how to get the most out of a Chamber membership.Hear first-hand from some of our current members about how they successfully use their membership to build more business and learn about unique opportunities that will increase your company’s exposure.Find out how the Quad Cities Chamber of Commerce can assist you with:·         Building your business·         Expanding your market·         Serving and strengthening our community Lunch will be provided.
X-ALT-DESC;FMTTYPE=text/html:<DIV style="FONT-FAMILY: Arial"><FONT color=#221e1f size=3><FONT color=#221e1f size=3><P style="TEXT-ALIGN: center\; MARGIN: 0in 0in 10pt" class=MsoNormal align=center><SPAN style="FONT-FAMILY: 'Times New Roman'\,'serif'"><FONT color=#000000><FONT size=4>Learn more about how the Quad Cities Chamber of Commerce allows you access to a broader market of potential customers\, vendors and business contacts.<?xml:namespace prefix = o ns = "urn:schemas-microsoft-com:office:office" /><o:p></o:p></FONT></FONT></SPAN></P><P style="TEXT-ALIGN: center\; MARGIN: 0in 0in 10pt" class=MsoNormal align=center><SPAN style="FONT-FAMILY: 'Times New Roman'\,'serif'"><FONT size=4><FONT color=#000000>Meet Your Chamber is a </FONT><SPAN style="COLOR: #c00000">FREE </SPAN><FONT color=#000000>event bringing together the Quad Cities Chamber of Commerce’s newest members\, future members and those interested in learning more about how to get the most out of a Chamber membership.<o:p></o:p></FONT></FONT></SPAN></P><P style="TEXT-ALIGN: center\; MARGIN: 0in 0in 10pt" class=MsoNormal align=center><SPAN style="FONT-FAMILY: 'Times New Roman'\,'serif'"><FONT color=#000000><FONT size=4>Hear first-hand from some of our current members about how they successfully use their membership to build more business and learn about unique opportunities that will increase your company’s exposure.<o:p></o:p></FONT></FONT></SPAN></P><P style="TEXT-ALIGN: center\; MARGIN: 0in 0in 10pt" class=MsoNormal align=center><SPAN style="FONT-FAMILY: 'Times New Roman'\,'serif'"><FONT color=#000000><FONT size=4>Find out how the Quad Cities Chamber of Commerce can assist you with:<o:p></o:p></FONT></FONT></SPAN></P><P style="TEXT-ALIGN: center\; TEXT-INDENT: -0.25in\; MARGIN: 0in 0in 0pt 0.5in\; mso-list: l0 level1 lfo1" class=MsoListParagraphCxSpFirst align=center><FONT color=#000000><FONT face="Times New Roman"><FONT size=4><SPAN style="FONT-FAMILY: Symbol\; mso-fareast-font-family: Symbol\; mso-bidi-font-family: Symbol"><SPAN style="mso-list: Ignore">·<SPAN style="FONT: 7pt 'Times New Roman'">&nbsp\;&nbsp\;&nbsp\;&nbsp\;&nbsp\;&nbsp\;&nbsp\;&nbsp\; </SPAN></SPAN></SPAN><SPAN style="FONT-FAMILY: 'Times New Roman'\,'serif'">Building your business<o:p></o:p></SPAN></FONT></FONT></FONT></P><P style="TEXT-ALIGN: center\; TEXT-INDENT: -0.25in\; MARGIN: 0in 0in 0pt 0.5in\; mso-list: l0 level1 lfo1" class=MsoListParagraphCxSpMiddle align=center><FONT color=#000000><FONT face="Times New Roman"><FONT size=4><SPAN style="FONT-FAMILY: Symbol\; mso-fareast-font-family: Symbol\; mso-bidi-font-family: Symbol"><SPAN style="mso-list: Ignore">·<SPAN style="FONT: 7pt 'Times New Roman'">&nbsp\;&nbsp\;&nbsp\;&nbsp\;&nbsp\;&nbsp\;&nbsp\;&nbsp\; </SPAN></SPAN></SPAN><SPAN style="FONT-FAMILY: 'Times New Roman'\,'serif'">Expanding your market<o:p></o:p></SPAN></FONT></FONT></FONT></P><P style="TEXT-ALIGN: center\; TEXT-INDENT: -0.25in\; MARGIN: 0in 0in 10pt 0.5in\; mso-list: l0 level1 lfo1" class=MsoListParagraphCxSpLast align=center><FONT color=#000000><FONT face="Times New Roman"><FONT size=4><SPAN style="FONT-FAMILY: Symbol\; mso-fareast-font-family: Symbol\; mso-bidi-font-family: Symbol"><SPAN style="mso-list: Ignore">·<SPAN style="FONT: 7pt 'Times New Roman'">&nbsp\;&nbsp\;&nbsp\;&nbsp\;&nbsp\;&nbsp\;&nbsp\;&nbsp\; </SPAN></SPAN></SPAN><SPAN style="FONT-FAMILY: 'Times New Roman'\,'serif'">Serving and strengthening our community<o:p></o:p></SPAN></FONT></FONT></FONT></P><P style="TEXT-ALIGN: center\; MARGIN: 0in 0in 10pt" class=MsoNormal align=center><SPAN style="FONT-FAMILY: 'Times New Roman'\,'serif'"><FONT color=#000000><FONT size=4></FONT></FONT></SPAN>&nbsp\;</P><P style="TEXT-ALIGN: center\; MARGIN: 0in 0in 10pt" class=MsoNormal align=center><SPAN style="FONT-FAMILY: 'Times New Roman'\,'serif'"><FONT color=#000000><FONT size=4>Lunch will be provided.<o:p></o:p></FONT></FONT></SPAN></P><P align=justify></P></FONT></FONT></DIV>
LOCATION:Genesis Medical Center\, East1227 E. Rusholme St. Davenport\, IA 52803
UID:e.2843.173
SEQUENCE:3
DTSTAMP:20260422T230923Z
URL:https://member.quadcitieschamber.com/events/details/meet-your-chamber-06-08-2011-173
END:VEVENT

END:VCALENDAR
