BEGIN:VCALENDAR
VERSION:2.0
PRODID:-//ChamberMaster//Event Calendar 2.0//EN
METHOD:PUBLISH
X-PUBLISHED-TTL:P3D
REFRESH-INTERVAL:P3D
CALSCALE:GREGORIAN
BEGIN:VEVENT
DTSTART:20121206T180000Z
DTEND:20121206T193000Z
X-MICROSOFT-CDO-ALLDAYEVENT:FALSE
SUMMARY:Meet Your Chamber
DESCRIPTION:Meet Your ChamberGet the best return on your membership! Learn how the Quad Cities Chamber of Commerce allowsyou access to a broader market of potential customers\,vendors and business contacts. Meet Your Chamber is a FREE event bringing together theQuad Cities Chamber of Commerce’s newest members\,future members and those interested in learning moreabout how to get the most out of a Chamber membership.Hear first-hand from current members about how theysuccessfully use their membership to build more business\,and learn about unique opportunities that will increase yourcompany’s exposure. Find out how the Quad Cities Chamber of Commerce canassist you with:· Building your business· Expanding your market· Serving and strengthening our community Bring along pieces of promotional material to share with the group!  For more information\, contact Jessica Webb at563.823.2669 or jwebb@quadcitieschamber.com.  Lunch provided.  Click here to see who is already registered for this event!
X-ALT-DESC;FMTTYPE=text/html:<P style="MARGIN: 0in 0in 0pt\; FONT-FAMILY: Arial\; mso-layout-grid-align: none" class=MsoNormal><SPAN style="FONT-FAMILY: 'AvenirLTStd-Black'\,'sans-serif'\; COLOR: black\; FONT-SIZE: 19pt\; mso-bidi-font-family: AvenirLTStd-Black"><FONT size=3>Meet Your Chamber<?xml:namespace prefix = o ns = "urn:schemas-microsoft-com:office:office" /><o:p></o:p></FONT></SPAN></P><P style="MARGIN: 0in 0in 0pt\; FONT-FAMILY: Arial\; mso-layout-grid-align: none" class=MsoNormal><B><SPAN style="FONT-FAMILY: 'Garamond-Bold'\,'serif'\; COLOR: #779dbf\; FONT-SIZE: 12.5pt\; mso-bidi-font-family: Garamond-Bold"><FONT size=3>Get the best return on your membership!</FONT></SPAN></B></P><P style="MARGIN: 0in 0in 0pt\; FONT-FAMILY: Arial\; mso-layout-grid-align: none" class=MsoNormal><B><SPAN style="FONT-FAMILY: 'Garamond-Bold'\,'serif'\; COLOR: #779dbf\; FONT-SIZE: 12.5pt\; mso-bidi-font-family: Garamond-Bold"></SPAN></B><SPAN style="FONT-FAMILY: 'AvenirLTStd-Roman'\,'sans-serif'\; COLOR: #934309\; FONT-SIZE: 10pt\; mso-bidi-font-family: AvenirLTStd-Roman"><o:p><FONT color=#0f0f0f>&nbsp\;</FONT></o:p></SPAN></P><P style="MARGIN: 0in 0in 0pt\; FONT-FAMILY: Arial\; mso-layout-grid-align: none" class=MsoNormal><SPAN style="FONT-FAMILY: 'Garamond'\,'serif'\; COLOR: black\; mso-bidi-font-family: Garamond">Learn how the Quad Cities Chamber of Commerce allows<o:p></o:p></SPAN></P><P style="MARGIN: 0in 0in 0pt\; FONT-FAMILY: Arial\; mso-layout-grid-align: none" class=MsoNormal><SPAN style="FONT-FAMILY: 'Garamond'\,'serif'\; COLOR: black\; mso-bidi-font-family: Garamond">you access to a broader market of potential customers\,<o:p></o:p></SPAN></P><P style="MARGIN: 0in 0in 0pt\; FONT-FAMILY: Arial\; mso-layout-grid-align: none" class=MsoNormal><SPAN style="FONT-FAMILY: 'Garamond'\,'serif'\; COLOR: black\; mso-bidi-font-family: Garamond">vendors and business contacts.<o:p></o:p></SPAN></P><P style="MARGIN: 0in 0in 0pt\; FONT-FAMILY: Arial\; mso-layout-grid-align: none" class=MsoNormal><SPAN style="FONT-FAMILY: 'Garamond'\,'serif'\; COLOR: black\; mso-bidi-font-family: Garamond"><o:p>&nbsp\;</o:p></SPAN></P><P style="MARGIN: 0in 0in 0pt\; FONT-FAMILY: Arial\; mso-layout-grid-align: none" class=MsoNormal><SPAN style="FONT-FAMILY: 'Garamond'\,'serif'\; COLOR: black\; mso-bidi-font-family: Garamond">Meet Your Chamber is a </SPAN><SPAN style="FONT-FAMILY: 'Garamond'\,'serif'\; COLOR: #790101\; mso-bidi-font-family: Garamond">FREE </SPAN><SPAN style="FONT-FAMILY: 'Garamond'\,'serif'\; COLOR: black\; mso-bidi-font-family: Garamond">event bringing together the<o:p></o:p></SPAN></P><P style="MARGIN: 0in 0in 0pt\; FONT-FAMILY: Arial\; mso-layout-grid-align: none" class=MsoNormal><SPAN style="FONT-FAMILY: 'Garamond'\,'serif'\; COLOR: black\; mso-bidi-font-family: Garamond">Quad Cities Chamber of Commerce’s newest members\,<o:p></o:p></SPAN></P><P style="MARGIN: 0in 0in 0pt\; FONT-FAMILY: Arial\; mso-layout-grid-align: none" class=MsoNormal><SPAN style="FONT-FAMILY: 'Garamond'\,'serif'\; COLOR: black\; mso-bidi-font-family: Garamond">future members and those interested in learning more<o:p></o:p></SPAN></P><P style="MARGIN: 0in 0in 0pt\; FONT-FAMILY: Arial\; mso-layout-grid-align: none" class=MsoNormal><SPAN style="FONT-FAMILY: 'Garamond'\,'serif'\; COLOR: black\; mso-bidi-font-family: Garamond">about how to get the most out of a Chamber membership.<o:p></o:p></SPAN></P><P style="MARGIN: 0in 0in 0pt\; FONT-FAMILY: Arial\; mso-layout-grid-align: none" class=MsoNormal><SPAN style="FONT-FAMILY: 'Garamond'\,'serif'\; COLOR: black\; mso-bidi-font-family: Garamond">Hear first-hand from current members about how they<o:p></o:p></SPAN></P><P style="MARGIN: 0in 0in 0pt\; FONT-FAMILY: Arial\; mso-layout-grid-align: none" class=MsoNormal><SPAN style="FONT-FAMILY: 'Garamond'\,'serif'\; COLOR: black\; mso-bidi-font-family: Garamond">successfully use their membership to build more business\,<o:p></o:p></SPAN></P><P style="MARGIN: 0in 0in 0pt\; FONT-FAMILY: Arial\; mso-layout-grid-align: none" class=MsoNormal><SPAN style="FONT-FAMILY: 'Garamond'\,'serif'\; COLOR: black\; mso-bidi-font-family: Garamond">and learn about unique opportunities that will increase your<o:p></o:p></SPAN></P><P style="MARGIN: 0in 0in 0pt\; FONT-FAMILY: Arial\; mso-layout-grid-align: none" class=MsoNormal><SPAN style="FONT-FAMILY: 'Garamond'\,'serif'\; COLOR: black\; mso-bidi-font-family: Garamond">company’s exposure.<o:p></o:p></SPAN></P><P style="MARGIN: 0in 0in 0pt\; FONT-FAMILY: Arial\; mso-layout-grid-align: none" class=MsoNormal><SPAN style="FONT-FAMILY: 'Garamond'\,'serif'\; COLOR: black\; mso-bidi-font-family: Garamond"><o:p>&nbsp\;</o:p></SPAN></P><P style="MARGIN: 0in 0in 0pt\; FONT-FAMILY: Arial\; mso-layout-grid-align: none" class=MsoNormal><SPAN style="FONT-FAMILY: 'Garamond'\,'serif'\; COLOR: black\; mso-bidi-font-family: Garamond">Find out how the Quad Cities Chamber of Commerce can<o:p></o:p></SPAN></P><P style="MARGIN: 0in 0in 0pt\; FONT-FAMILY: Arial\; mso-layout-grid-align: none" class=MsoNormal><SPAN style="FONT-FAMILY: 'Garamond'\,'serif'\; COLOR: black\; mso-bidi-font-family: Garamond">assist you with:<o:p></o:p></SPAN></P><P style="MARGIN: 0in 0in 0pt\; FONT-FAMILY: Arial\; mso-layout-grid-align: none" class=MsoNormal><SPAN style="FONT-FAMILY: 'Garamond'\,'serif'\; COLOR: black\; mso-bidi-font-family: Garamond">· Building your business<o:p></o:p></SPAN></P><P style="MARGIN: 0in 0in 0pt\; FONT-FAMILY: Arial\; mso-layout-grid-align: none" class=MsoNormal><SPAN style="FONT-FAMILY: 'Garamond'\,'serif'\; COLOR: black\; mso-bidi-font-family: Garamond">· Expanding your market<o:p></o:p></SPAN></P><P style="MARGIN: 0in 0in 0pt\; FONT-FAMILY: Arial\; mso-layout-grid-align: none" class=MsoNormal><SPAN style="FONT-FAMILY: 'Garamond'\,'serif'\; COLOR: black\; mso-bidi-font-family: Garamond">· Serving and strengthening our community</SPAN></P><P style="MARGIN: 0in 0in 0pt\; FONT-FAMILY: Arial\; mso-layout-grid-align: none" class=MsoNormal><SPAN style="FONT-FAMILY: 'Garamond'\,'serif'\; COLOR: black\; mso-bidi-font-family: Garamond"></SPAN>&nbsp\;</P><SPAN style="FONT-FAMILY: 'Garamond'\,'serif'\; COLOR: black\; mso-bidi-font-family: Garamond"><o:p><P style="MARGIN: 0in 0in 0pt\; FONT-FAMILY: Arial\; mso-layout-grid-align: none" class=MsoNormal><SPAN style="FONT-FAMILY: 'AvenirLTStd-Roman'\,'sans-serif'\; COLOR: #934309\; FONT-SIZE: 10pt\; mso-bidi-font-family: AvenirLTStd-Roman"><o:p><FONT color=#0f0f0f><STRONG>Bring along pieces of promotional material to&nbsp\;share with&nbsp\;the group!&nbsp\;</STRONG></FONT></o:p></SPAN></P></o:p></SPAN><P style="MARGIN: 0in 0in 0pt\; FONT-FAMILY: Arial\; mso-layout-grid-align: none" class=MsoNormal><SPAN style="FONT-FAMILY: 'Garamond'\,'serif'\; COLOR: black\; mso-bidi-font-family: Garamond"><o:p>&nbsp\;</o:p></SPAN></P><P style="MARGIN: 0in 0in 0pt\; FONT-FAMILY: Arial\; mso-layout-grid-align: none" class=MsoNormal><B><SPAN style="FONT-FAMILY: 'Garamond-Bold'\,'serif'\; COLOR: black\; mso-bidi-font-family: Garamond-Bold">For more information\, </SPAN></B><SPAN style="FONT-FAMILY: 'Garamond'\,'serif'\; COLOR: black\; mso-bidi-font-family: Garamond">contact Jessica Webb at<o:p></o:p></SPAN></P><DIV style="FONT-FAMILY: Arial"><SPAN style="FONT-FAMILY: 'Garamond'\,'serif'\; COLOR: black\; FONT-SIZE: 11pt\; mso-bidi-font-family: Garamond\; mso-fareast-font-family: 'Times New Roman'\; mso-ansi-language: EN-US\; mso-fareast-language: EN-US\; mso-bidi-language: AR-SA">563.823.2669 or <A href="mailto:jwebb@quadcitieschamber.com"><SPAN style="mso-bidi-font-family: Garamond"><FONT face="Times New Roman">jwebb@quadcitieschamber.com</FONT></SPAN></A>. </SPAN></DIV><DIV style="FONT-FAMILY: Arial"><SPAN style="FONT-FAMILY: 'Garamond'\,'serif'\; COLOR: black\; FONT-SIZE: 11pt\; mso-bidi-font-family: Garamond\; mso-fareast-font-family: 'Times New Roman'\; mso-ansi-language: EN-US\; mso-fareast-language: EN-US\; mso-bidi-language: AR-SA"></SPAN>&nbsp\;</DIV><DIV style="FONT-FAMILY: Arial"><SPAN style="FONT-FAMILY: 'Garamond'\,'serif'\; COLOR: black\; FONT-SIZE: 11pt\; mso-bidi-font-family: Garamond\; mso-fareast-font-family: 'Times New Roman'\; mso-ansi-language: EN-US\; mso-fareast-language: EN-US\; mso-bidi-language: AR-SA">Lunch provided. </SPAN></DIV><DIV style="FONT-FAMILY: Arial"><SPAN style="FONT-FAMILY: 'Garamond'\,'serif'\; COLOR: black\; FONT-SIZE: 11pt\; mso-bidi-font-family: Garamond\; mso-fareast-font-family: 'Times New Roman'\; mso-ansi-language: EN-US\; mso-fareast-language: EN-US\; mso-bidi-language: AR-SA"></SPAN>&nbsp\;</DIV><DIV style="FONT-FAMILY: Arial"><SPAN style="FONT-FAMILY: 'Garamond'\,'serif'\; COLOR: black\; FONT-SIZE: 11pt\; mso-bidi-font-family: Garamond\; mso-fareast-font-family: 'Times New Roman'\; mso-ansi-language: EN-US\; mso-fareast-language: EN-US\; mso-bidi-language: AR-SA"><A style="COLOR: blue\; TEXT-DECORATION: underline" title="" dataFld=0:0 href="http://events.quadcitieschamber.com/sbaweb/common/attendees.asp?eventcode=MYC FALL" target=_self>Click here</A> to see who is already registered for this event! </SPAN></DIV>
LOCATION:Genesis Heart Institute - Adler Room\, Lower Level1236 E. Rusholme St. Davenport\, IA 52806
UID:e.2843.442
SEQUENCE:3
DTSTAMP:20260421T134437Z
URL:https://member.quadcitieschamber.com/events/details/meet-your-chamber-12-06-2012-442
END:VEVENT

END:VCALENDAR
