BEGIN:VCALENDAR
VERSION:2.0
PRODID:-//ChamberMaster//Event Calendar 2.0//EN
METHOD:PUBLISH
X-PUBLISHED-TTL:P3D
REFRESH-INTERVAL:P3D
CALSCALE:GREGORIAN
BEGIN:VEVENT
DTSTART:20110427T123000Z
DTEND:20110427T133000Z
X-MICROSOFT-CDO-ALLDAYEVENT:FALSE
SUMMARY:Meet Your Chamber - Bettendorf
DESCRIPTION:What can the Quad Cities Chamber do for your business? Find out at a special “Meet Your Chamber” presentation  -- exclusively for Bettendorf businesses.
X-ALT-DESC;FMTTYPE=text/html:<DIV style="FONT-FAMILY: Arial"><P style="MARGIN: 0in 0in 0pt" class=MsoNormal><SPAN style="FONT-FAMILY: 'Times New Roman'\,'serif'\; FONT-SIZE: 12pt"><FONT face=Arial>What can the Quad Cities Chamber do for your business?<?xml:namespace prefix = o ns = "urn:schemas-microsoft-com:office:office" /><o:p></o:p></FONT></SPAN></P><P style="MARGIN: 0in 0in 0pt" class=MsoNormal><SPAN style="FONT-FAMILY: 'Times New Roman'\,'serif'\; FONT-SIZE: 12pt"><o:p><FONT face=Arial>&nbsp\;</FONT></o:p></SPAN></P><P style="MARGIN: 0in 0in 0pt" class=MsoNormal><SPAN style="FONT-FAMILY: 'Times New Roman'\,'serif'\; FONT-SIZE: 12pt"><FONT face=Arial>Find out at a special “Meet Your Chamber” presentation&nbsp\; -- exclusively for Bettendorf businesses. <o:p></o:p></FONT></SPAN></P></DIV>
LOCATION:Lodge Hotel & Conference Center900 Spruce Hills Dr. Bettendorf\, IA 52722
UID:e.2843.161
SEQUENCE:3
DTSTAMP:20260422T231204Z
URL:https://member.quadcitieschamber.com/events/details/meet-your-chamber-bettendorf-04-27-2011-161
END:VEVENT

END:VCALENDAR
