BEGIN:VCALENDAR
VERSION:2.0
PRODID:-//ChamberMaster//Event Calendar 2.0//EN
METHOD:PUBLISH
X-PUBLISHED-TTL:P3D
REFRESH-INTERVAL:P3D
CALSCALE:GREGORIAN
BEGIN:VEVENT
DTSTART:20131001T050000Z
DTEND:20131001T050000Z
X-MICROSOFT-CDO-ALLDAYEVENT:FALSE
SUMMARY:Meet Your Chamber: Fall 2013
DESCRIPTION:Meet Your Chamber: Fall 2013
X-ALT-DESC;FMTTYPE=text/html:Meet Your Chamber: Fall 2013
LOCATION:Genesis Hearth Institute
UID:e.2843.1657
SEQUENCE:3
DTSTAMP:20260421T201206Z
URL:https://member.quadcitieschamber.com/events/details/meet-your-chamber-fall-2013-10-01-2013-1657
END:VEVENT

END:VCALENDAR
