BEGIN:VCALENDAR
VERSION:2.0
PRODID:-//ChamberMaster//Event Calendar 2.0//EN
METHOD:PUBLISH
X-PUBLISHED-TTL:P3D
REFRESH-INTERVAL:P3D
CALSCALE:GREGORIAN
BEGIN:VEVENT
DTSTART:20130430T170000Z
DTEND:20130430T183000Z
X-MICROSOFT-CDO-ALLDAYEVENT:FALSE
SUMMARY:Meet Your Chamber - Maximize Your Return on Investment!
DESCRIPTION:Meet Your Chamber  - Maximize Your Return on Investment!  Why you should attend - Gain insights from other leaders\, members and staff- Hear about effective strategies to leverage your membership - Ask questions specific to your business or industry - Network with business leaders\, including board and committee members Evolving and changing with market opportunities is critical to moving business forward. Meet Your Chamber isa FREE event that provides insight on how to access a broader market of potential customers\, vendors and business contacts. Hear first-hand ways to use your membership to build more business and enhance exposure of your company.  Space is limited. RSVP today!  Dont forget to bring along your business cards and 50 brochures or flyers to share with the group!
X-ALT-DESC;FMTTYPE=text/html:<DIV align=center><STRONG><FONT color=#0000ff size=4>Meet Your Chamber&nbsp\; - Maximize Your Return on Investment! </FONT></STRONG></DIV><DIV align=center><STRONG><FONT color=#0000ff size=4></FONT></STRONG>&nbsp\;</DIV><DIV align=center><FONT color=#0f0f0f><STRONG>Why you should attend </STRONG></FONT></DIV><DIV align=center><FONT color=#0f0f0f>- Gain insights from other leaders\, members and staff</FONT></DIV><DIV align=center><FONT color=#0f0f0f>- Hear about effective strategies to leverage your membership </FONT></DIV><DIV align=center><FONT color=#0f0f0f>- Ask questions specific to your business or industry </FONT></DIV><DIV align=center><FONT color=#0f0f0f>- Network with business leaders\, including board and committee members</FONT></DIV><DIV align=center><FONT color=#0f0f0f></FONT>&nbsp\;</DIV><DIV align=center><FONT color=#0f0f0f>Evolving and changing with market opportunities is critical to moving business forward. Meet Your Chamber isa FREE event that provides insight on how to access a broader market of potential customers\, vendors and business contacts. Hear first-hand ways to use your membership to build more business and enhance exposure of your company. </FONT></DIV><DIV align=center><FONT color=#0f0f0f></FONT>&nbsp\;</DIV><DIV align=center><FONT color=#0f0f0f>Space is limited. RSVP today! </FONT></DIV><DIV align=center><FONT color=#0f0f0f></FONT>&nbsp\;</DIV><DIV align=center><FONT color=#0f0f0f><STRONG><EM>Dont forget to bring along your business cards and 50 brochures or flyers to share with the group!</EM></STRONG></FONT></DIV>
LOCATION:Genesis Hearth Institute1236 E. Rusholme St. Davenport\, IA 52803
UID:e.2843.549
SEQUENCE:3
DTSTAMP:20260421T121222Z
URL:https://member.quadcitieschamber.com/events/details/meet-your-chamber-maximize-your-return-on-investment-04-30-2013-549
END:VEVENT

END:VCALENDAR
