BEGIN:VCALENDAR
VERSION:2.0
PRODID:-//ChamberMaster//Event Calendar 2.0//EN
METHOD:PUBLISH
X-PUBLISHED-TTL:P3D
REFRESH-INTERVAL:P3D
CALSCALE:GREGORIAN
BEGIN:VEVENT
DTSTART:20180425T170000Z
DTEND:20180425T180000Z
X-MICROSOFT-CDO-ALLDAYEVENT:FALSE
SUMMARY:Member Lunch and Learn- Business Succession Planning – Is Your Business Prepared?
DESCRIPTION:Did you know that while 90% of business owners surveyed agree that succession planning is important\, only 33% of businesses have a succession plan? Experts from Wells Fargo will present the top issues your business should do to prepare for the next phase of business ownership\n\n \n\nFeaturing Tammy M. Robbins\, Senior Wealth Planning Strategist and Steve K. McConly\, Managing Director\, M&A Advisory Services.
X-ALT-DESC;FMTTYPE=text/html:<br>\nDid you know that while 90% of business owners surveyed agree that succession planning is important\, only 33% of businesses have a succession plan? Experts from Wells Fargo will present the top issues your business should do to prepare for the next phase of business ownership<br>\n&nbsp\;<br>\nFeaturing Tammy M. Robbins\, Senior Wealth Planning Strategist and Steve K. McConly\, Managing Director\, M&amp\;A Advisory Services.
LOCATION:Quad Cities Chamber of Commerce\, Arconic Conference Room 331 W. 3rd Street Davenport\, IA 52801
UID:e.2843.12138
SEQUENCE:3
DTSTAMP:20260423T123539Z
URL:https://member.quadcitieschamber.com/events/details/member-lunch-and-learn-business-succession-planning-is-your-business-prepared-12138
END:VEVENT

END:VCALENDAR
