BEGIN:VCALENDAR
VERSION:2.0
PRODID:-//ChamberMaster//Event Calendar 2.0//EN
METHOD:PUBLISH
X-PUBLISHED-TTL:P3D
REFRESH-INTERVAL:P3D
CALSCALE:GREGORIAN
BEGIN:VEVENT
DTSTART:20180518T223000Z
DTEND:20180519T020000Z
X-MICROSOFT-CDO-ALLDAYEVENT:FALSE
SUMMARY:Memories in the Making-an Alzheimer's Association Fundraising Event
DESCRIPTION:This event is an art auction and wine tasting that highlights professionally framed and matted watercolor paintings created by residents that live in local memory care facilities. Jana Quin\, of Stenzel Auction Services\, will auction off each painting starting at 7 p.m . Last year this event raised $10\,000 for the local chapter of the Alzheimer's Association. Appetizers and wine tastings from a local winery are included in the cost of the ticket. A cash bar will be available.\n\nMemories in the Making is a creative art expression program for individuals with Alzheimer's or related dementias. Even after people with dementia have lost the ability to use words\, they are often able to express thoughts\, emotions and share memories through painting with watercolors.\n\n\n\nPhotos shown are from 2017 event!
X-ALT-DESC;FMTTYPE=text/html:<p>This event is an art auction and wine tasting that highlights professionally framed and matted watercolor paintings created by residents that live in local memory care facilities. Jana Quin\, of Stenzel Auction Services\, will auction off each painting starting at 7 p.m . Last year this event raised $10\,000 for the local chapter of the Alzheimer&#39\;s Association. Appetizers and wine tastings from a local winery are included in the cost of the ticket. A cash bar will be available.</p>\n\n<p>Memories in the Making is a creative art expression program for individuals with Alzheimer&#39\;s or related dementias. Even after people with dementia have lost the ability to use words\, they are often able to express thoughts\, emotions and share memories through painting with watercolors.<br />\n<br />\nPhotos&nbsp\;shown are from 2017 event!&nbsp\;</p>\n
LOCATION:Best Western Plus Steeplegate Inn 100 West 76th Street Davenport\, IA 58806
UID:e.2843.10075
SEQUENCE:3
DTSTAMP:20260423T105258Z
URL:https://member.quadcitieschamber.com/events/details/memories-in-the-making-an-alheimer-s-association-fundraising-event-10075
END:VEVENT

END:VCALENDAR
