BEGIN:VCALENDAR
VERSION:2.0
PRODID:-//ChamberMaster//Event Calendar 2.0//EN
METHOD:PUBLISH
X-PUBLISHED-TTL:P3D
REFRESH-INTERVAL:P3D
CALSCALE:GREGORIAN
BEGIN:VEVENT
DTSTART:20120917T163000Z
DTEND:20120917T180000Z
X-MICROSOFT-CDO-ALLDAYEVENT:FALSE
SUMMARY:MetroLINK has been named Best Transit System in America Event
DESCRIPTION:You are invited to attend a special Community Leaders Lunch in honor of MetroLINK being named Best Transit System in America!  Located at Centre Station\, 1200 River Dr. in Moline.  There will not be a formal ribbon cutting\, however\, they would love the Ambassadors participation for the meeting/lunch and a photo with the MetroLINK team.
X-ALT-DESC;FMTTYPE=text/html:<SPAN style="FONT-FAMILY: 'Calibri'\,'sans-serif'\; FONT-SIZE: 11pt\; mso-fareast-font-family: 'Times New Roman'\; mso-bidi-font-family: 'Times New Roman'\; mso-ansi-language: EN-US\; mso-fareast-language: EN-US\; mso-bidi-language: AR-SA"><?xml:namespace prefix = v ns = "urn:schemas-microsoft-com:vml" /><v:shapetype id=_x0000_t75 stroked="f" filled="f" path="m@4@5l@4@11@9@11@9@5xe" o:preferrelative="t" o:spt="75" coordsize="21600\,21600">&nbsp\;</v:shapetype></SPAN><FONT face=Calibri>You are invited to attend a special Community Leaders Lunch in honor of MetroLINK being named Best Transit System in America!<SPAN style="mso-spacerun: yes">&nbsp\; </SPAN>Located at Centre Station\, 1200 River Dr. in Moline.<SPAN style="mso-spacerun: yes">&nbsp\; </SPAN>There will not be a formal ribbon cutting\, however\, they would love the Ambassadors participation for the meeting/lunch and a photo with the MetroLINK team.</FONT><DIV>&nbsp\;</DIV>
LOCATION:Centre Station1200 River Drive Moline\, IL
UID:e.2843.434
SEQUENCE:3
DTSTAMP:20260421T184447Z
URL:https://member.quadcitieschamber.com/events/details/metrolink-has-been-named-best-transit-system-in-america-event-09-17-2012-434
END:VEVENT

END:VCALENDAR
