BEGIN:VCALENDAR
VERSION:2.0
PRODID:-//ChamberMaster//Event Calendar 2.0//EN
METHOD:PUBLISH
X-PUBLISHED-TTL:P3D
REFRESH-INTERVAL:P3D
CALSCALE:GREGORIAN
BEGIN:VEVENT
DTSTART:20130523T203000Z
DTEND:20130523T210000Z
X-MICROSOFT-CDO-ALLDAYEVENT:FALSE
SUMMARY:MetroLINK Rock Island Transfer Station and The Locks housing development Groundbreaking
DESCRIPTION:The City of Rock Island\, the Rock Island Economic Growth Corporation (GROWTH)\, and the Rock Island County Metropolitan Mass Transit District (MetroLINK) invite you to attend a groundbreaking of a new transit-oriented development in downtown Rock Island on Thursday\, May 23rd at 3:30pm – Located at 20th Street & 1st Avenue in Rock Island.  Parking is available in the City of Rock Island’s Lot D (east of 20th Street at 2nd Avenue) and on 19th Street.
X-ALT-DESC;FMTTYPE=text/html:<P style="MARGIN: 0in 0in 0pt" class=MsoNormal><SPAN style="mso-ascii-font-family: Calibri\; mso-hansi-font-family: Calibri"><FONT face=Calibri>The City of Rock Island\, the Rock Island Economic Growth Corporation (GROWTH)\, and the Rock Island County Metropolitan Mass Transit District (MetroLINK) invite you to attend a groundbreaking of a new transit-oriented development in downtown Rock Island on <B style="mso-bidi-font-weight: normal">Thursday\, May 23<SUP>rd</SUP> at 3:30pm</B> – Located at 20<SUP>th</SUP> Street &amp\; 1<SUP>st</SUP> Avenue in Rock Island. <?xml:namespace prefix = o ns = "urn:schemas-microsoft-com:office:office" /><o:p></o:p></FONT></SPAN></P><P style="MARGIN: 0in 0in 0pt" class=MsoNormal><SPAN style="mso-ascii-font-family: Calibri\; mso-hansi-font-family: Calibri"><o:p><FONT face=Calibri>&nbsp\;</FONT></o:p></SPAN></P><P style="MARGIN: 0in 0in 0pt" class=MsoNormal><SPAN style="mso-ascii-font-family: Calibri\; mso-hansi-font-family: Calibri"><FONT face=Calibri>Parking is available in the City of Rock Island’s Lot D (east of 20<SUP>th</SUP> Street at 2<SUP>nd</SUP> Avenue) and on 19<SUP>th</SUP> Street.<o:p></o:p></FONT></SPAN></P><DIV style="FONT-FAMILY: Arial">&nbsp\;</DIV>
LOCATION:20th Street & 1st Avenue Rock Island\, IL 61201
UID:e.2843.589
SEQUENCE:3
DTSTAMP:20260421T121514Z
URL:https://member.quadcitieschamber.com/events/details/metrolink-rock-island-transfer-station-and-the-locks-housing-development-groundbreaking-05-23-2013-589
END:VEVENT

END:VCALENDAR
