BEGIN:VCALENDAR
VERSION:2.0
PRODID:-//ChamberMaster//Event Calendar 2.0//EN
METHOD:PUBLISH
X-PUBLISHED-TTL:P3D
REFRESH-INTERVAL:P3D
CALSCALE:GREGORIAN
BEGIN:VEVENT
DTSTART:20131017T183000Z
DTEND:20131017T190000Z
X-MICROSOFT-CDO-ALLDAYEVENT:FALSE
SUMMARY:Metropolitan Medical Laboratory Grand Opening
DESCRIPTION:Please join Metropolitan Medical Laboratory in celebrating the grand opening of their new location on Thursday\, October 17th at 1:30pm – Located at 3906 Lillie Ave. Ste 3. Davenport\, IA 52806. http://mapq.st/1hkOs0d.   Metropolitan Medical Laboratory is focused on bringing our community the very best in laboratory medicine\, and is an integral component of a very strong local health network.  Their “Patient Service Centers” are located conveniently throughout the Quad Cities area. Supporting this state-of-the-art environment are 8 pathologists who are Board Certified in Anatomic and Clinical Pathology.  Their skill level runs deep\, to include fellowship training and published research.  Over 300 employees are responsible for day-to-day operations.  More than 99% of all tests are performed locally.  A fleet of 35 vehicles transports specimens and supplies over one million miles a year.  Walk-in patients are welcome Monday-Friday 6:00am-6:00pm\; and Saturday from 6:00am-12:00pm at their new Davenport site. Virtually all insurance is accepted.  For more information please visit www.metromedlab.com.
X-ALT-DESC;FMTTYPE=text/html:<DIV style="FONT-FAMILY: Arial"><P style="MARGIN: 0in 0in 0pt" class=MsoNormal><FONT face=Calibri>Please join Metropolitan Medical Laboratory in celebrating the grand opening of their new location on <B style="mso-bidi-font-weight: normal">Thursday\, October 17th at 1:30pm</B> – Located at 3906 Lillie Ave. Ste 3. Davenport\, IA 52806. </FONT><A href="http://mapq.st/1hkOs0d"><FONT face="Times New Roman">http://mapq.st/1hkOs0d</FONT></A><FONT face=Calibri>.<SPAN style="mso-spacerun: yes">&nbsp\; </SPAN><?xml:namespace prefix = o ns = "urn:schemas-microsoft-com:office:office" /><o:p></o:p></FONT></P><P style="MARGIN: 0in 0in 0pt" class=MsoNormal><FONT face=Calibri><SPAN style="mso-spacerun: yes">&nbsp\;</SPAN><o:p></o:p></FONT></P><P style="MARGIN: 0in 0in 0pt" class=MsoNormal><FONT face=Calibri>Metropolitan Medical Laboratory is focused on bringing our community the very best in laboratory medicine\, and is an integral component of a very strong local health network.<SPAN style="mso-spacerun: yes">&nbsp\; </SPAN>Their “Patient Service Centers” are located conveniently throughout the Quad Cities area.<o:p></o:p></FONT></P><P style="MARGIN: 0in 0in 0pt" class=MsoNormal><FONT face=Calibri><SPAN style="mso-spacerun: yes">&nbsp\;</SPAN><o:p></o:p></FONT></P><P style="MARGIN: 0in 0in 0pt" class=MsoNormal><FONT face=Calibri>Supporting this state-of-the-art environment are 8 pathologists who are Board Certified in Anatomic and Clinical Pathology.<SPAN style="mso-spacerun: yes">&nbsp\; </SPAN>Their skill level runs deep\, to include fellowship training and published research.<SPAN style="mso-spacerun: yes">&nbsp\; </SPAN>Over 300 employees are responsible for day-to-day operations.<SPAN style="mso-spacerun: yes">&nbsp\; </SPAN>More than 99% of all tests are performed locally.<SPAN style="mso-spacerun: yes">&nbsp\; </SPAN>A fleet of 35 vehicles transports specimens and supplies over one million miles a year. <o:p></o:p></FONT></P><P style="MARGIN: 0in 0in 0pt" class=MsoNormal><FONT face=Calibri><SPAN style="mso-spacerun: yes">&nbsp\;</SPAN><o:p></o:p></FONT></P><P style="MARGIN: 0in 0in 0pt" class=MsoNormal><FONT face=Calibri>Walk-in patients are welcome Monday-Friday 6:00am-6:00pm\; and Saturday from 6:00am-12:00pm at their new Davenport site. Virtually all insurance is accepted.<SPAN style="mso-spacerun: yes">&nbsp\; </SPAN>For more information please visit </FONT><A href="http://www.metromedlab.com"><FONT face="Times New Roman">www.metromedlab.com</FONT></A><FONT face=Calibri>.<SPAN style="mso-spacerun: yes">&nbsp\;&nbsp\; </SPAN></FONT><o:p></o:p></P>&nbsp\; <BR></DIV>
LOCATION:Metropolitan Medical Laboratory\, P.L.C.3906 Lillie Ave. Ste. 3 Davenport\, IA 52806
UID:e.2843.726
SEQUENCE:3
DTSTAMP:20260421T202153Z
URL:https://member.quadcitieschamber.com/events/details/metropolitan-medical-laboratory-grand-opening-10-17-2013-726
END:VEVENT

END:VCALENDAR
