BEGIN:VCALENDAR
VERSION:2.0
PRODID:-//ChamberMaster//Event Calendar 2.0//EN
METHOD:PUBLISH
X-PUBLISHED-TTL:P3D
REFRESH-INTERVAL:P3D
CALSCALE:GREGORIAN
BEGIN:VEVENT
DTSTART:20111220T060000Z
DTEND:20111220T060000Z
X-MICROSOFT-CDO-ALLDAYEVENT:FALSE
SUMMARY:Mike Freemire Honor Reception
DESCRIPTION:Mike Freemire Honor Reception
X-ALT-DESC;FMTTYPE=text/html:Mike Freemire Honor Reception
LOCATION:Waterfront Convention Center
UID:e.2843.1471
SEQUENCE:3
DTSTAMP:20260422T123502Z
URL:https://member.quadcitieschamber.com/events/details/mike-freemire-honor-reception-12-20-2011-1471
END:VEVENT

END:VCALENDAR
