BEGIN:VCALENDAR
VERSION:2.0
PRODID:-//ChamberMaster//Event Calendar 2.0//EN
METHOD:PUBLISH
X-PUBLISHED-TTL:P3D
REFRESH-INTERVAL:P3D
CALSCALE:GREGORIAN
BEGIN:VEVENT
DTSTART:20180623T140000Z
DTEND:20180623T220000Z
X-MICROSOFT-CDO-ALLDAYEVENT:FALSE
SUMMARY:Mind Body Spirit Expo
DESCRIPTION:We're excited to announce the first Body\, Mind\, Spirit Expo to be held here in the Clinton Area. The momentum for holistic health\, as well as natural\, ancient and spiritual health and healing practices has been growing. This Expo is an opportunity for our community to learn about some of these practices to get a better feel for what they're about.
X-ALT-DESC;FMTTYPE=text/html:We&rsquo\;re excited to announce the first Body\, Mind\, Spirit Expo to be held here in the Clinton Area. The momentum for holistic health\, as well as natural\, ancient and spiritual health and healing practices has been growing. This Expo is an opportunity for our community to learn about some of these practices to get a better feel for what they&rsquo\;re about.
LOCATION:416 S 1st St\, Clinton\, IA 52732
UID:e.2843.13202
SEQUENCE:3
DTSTAMP:20260423T092128Z
URL:https://member.quadcitieschamber.com/events/details/mind-body-spirit-expo-13202
END:VEVENT

END:VCALENDAR
