BEGIN:VCALENDAR
VERSION:2.0
PRODID:-//ChamberMaster//Event Calendar 2.0//EN
METHOD:PUBLISH
X-PUBLISHED-TTL:P3D
REFRESH-INTERVAL:P3D
CALSCALE:GREGORIAN
BEGIN:VEVENT
DTSTART:20130425T213000Z
DTEND:20130425T220000Z
X-MICROSOFT-CDO-ALLDAYEVENT:FALSE
SUMMARY:Miss Mamie's Restaurant & Bar Ribbon Cutting
DESCRIPTION:Please help new member Miss Mamie’s Restaurant & Bar celebrate their Grand Re-Opening on Thursday\, April 25th at 4:30pm – Located at 3925 16th Street\, Moline. Miss Mamie’s Restaurant & Bar is hosting a grand re-opening week from April 22nd – April 28th\, where they will introduce their new\, fresh and casual vibe along with new chef-inspired entrees they are adding to their menu. Please visit www.missmamiesrestaurant.com for more information.
X-ALT-DESC;FMTTYPE=text/html:<P style="MARGIN: 0in 0in 0pt" class=MsoNormal><FONT face=Calibri>Please help new member Miss Mamie’s Restaurant &amp\; Bar celebrate their Grand Re-Opening on <B style="mso-bidi-font-weight: normal">Thursday\, April 25<SUP>th</SUP> at 4:30pm</B> – Located at 3925 16<SUP>th</SUP> Street\, Moline.<?xml:namespace prefix = o ns = "urn:schemas-microsoft-com:office:office" /><o:p></o:p></FONT></P><P style="MARGIN: 0in 0in 0pt" class=MsoNormal><o:p><FONT face=Calibri>&nbsp\;</FONT></o:p></P><P style="MARGIN: 0in 0in 0pt" class=MsoNormal><FONT face=Calibri>Miss Mamie’s Restaurant &amp\; Bar is hosting a grand re-opening week from April 22<SUP>nd</SUP> – April 28<SUP>th</SUP>\, where they will introduce their new\, fresh and casual vibe along with new chef-inspired entrees they are adding to their menu.<o:p></o:p></FONT></P><P style="MARGIN: 0in 0in 0pt" class=MsoNormal><o:p><FONT face=Calibri>&nbsp\;</FONT></o:p></P><P style="MARGIN: 0in 0in 0pt" class=MsoNormal><FONT face=Calibri>Please&nbsp\;visit </FONT><A href="http://www.missmamiesrestaurant.com">www.missmamiesrestaurant.com</A><FONT face=Calibri> for more information.<o:p></o:p></FONT></P><DIV style="FONT-FAMILY: Arial">&nbsp\;</DIV>
LOCATION:Miss Mamies Restaurant & Bar3925 16th Street Moline\, IL 61265
UID:e.2843.565
SEQUENCE:3
DTSTAMP:20260421T121507Z
URL:https://member.quadcitieschamber.com/events/details/miss-mamie-s-restaurant-bar-ribbon-cutting-04-25-2013-565
END:VEVENT

END:VCALENDAR
