BEGIN:VCALENDAR
VERSION:2.0
PRODID:-//ChamberMaster//Event Calendar 2.0//EN
METHOD:PUBLISH
X-PUBLISHED-TTL:P3D
REFRESH-INTERVAL:P3D
CALSCALE:GREGORIAN
BEGIN:VEVENT
DTSTART:20120518T150000Z
DTEND:20120518T153000Z
X-MICROSOFT-CDO-ALLDAYEVENT:FALSE
SUMMARY:Mississippi Riverfront Recreation Trail Ribbon Cutting
DESCRIPTION:Please help celebrate the newest section of the Mississippi Riverfront Recreation Trail on Friday\, May 18th at 10am.  This date coincides with “Bike to Work Week” and is also the week that the Mississippi Riverfront Trail (MRT) Inc. is meeting in Bettendorf.  Their Board members from throughout the upper Midwest region plan to participate in the ribbon cutting ceremonies\, along with Bettendorf and Riverdale City officials.   The ceremony will mark the opening of the nearly 2 mile section of the trail that extends the Riverfront Trail from the I-74 area\, to stretches from the headwaters of the Mississippi in Minnesota\, to the Gulf of Mexico!  Included along this section will also be a scenic riverfront overlook site\, built near the intersection of Elm and 35th Street.  This multi use trail expansion will truly help to improve the quality of life for local residents\, and provide an even greater tourism attraction as a rapidly growing trail users destination here in the Quad Cities!
X-ALT-DESC;FMTTYPE=text/html:<DIV><P style="MARGIN: 0in 0in 0pt" class=MsoNormal><SPAN style="mso-bidi-font-family: Arial"><FONT face=Arial>Please help celebrate the newest section of the Mississippi Riverfront Recreation Trail on Friday\, May 18<SUP>th</SUP> at 10am.<SPAN style="mso-spacerun: yes">&nbsp\; </SPAN>This date coincides with “Bike to Work Week” and is also the week that the Mississippi Riverfront Trail (MRT) Inc. is meeting in Bettendorf.<SPAN style="mso-spacerun: yes">&nbsp\; </SPAN>Their Board members from throughout the upper Midwest region plan to participate in the ribbon cutting ceremonies\, along with Bettendorf and Riverdale City officials.<SPAN style="mso-spacerun: yes">&nbsp\; </SPAN></FONT></SPAN></P><P style="MARGIN: 0in 0in 0pt" class=MsoNormal><SPAN style="mso-bidi-font-family: Arial"><SPAN style="mso-spacerun: yes"><FONT face=Arial></FONT></SPAN></SPAN>&nbsp\;</P><P style="MARGIN: 0in 0in 0pt" class=MsoNormal><SPAN style="mso-bidi-font-family: Arial"><SPAN style="mso-spacerun: yes"></SPAN><FONT face=Arial>The ceremony will mark the opening of the nearly 2 mile section of the trail that extends the Riverfront Trail from the I-74 area\, to stretches from the headwaters of the Mississippi in Minnesota\, to the Gulf of Mexico!<SPAN style="mso-spacerun: yes">&nbsp\; </SPAN>Included along this section will also be a scenic riverfront overlook site\, built near the intersection of Elm and 35<SUP>th</SUP> Street.<SPAN style="mso-spacerun: yes">&nbsp\; </SPAN>This multi use trail expansion will truly help to improve the quality of life for local residents\, and provide an even greater tourism attraction as a rapidly growing trail users destination here in the Quad Cities!<?xml:namespace prefix = o ns = "urn:schemas-microsoft-com:office:office" /><o:p></o:p></FONT></SPAN></P></DIV>
LOCATION:Leach Park in Bettendorf100 12th Street Bettendorf\, IA 52722
UID:e.2843.359
SEQUENCE:3
DTSTAMP:20260422T013854Z
URL:https://member.quadcitieschamber.com/events/details/mississippi-riverfront-recreation-trail-ribbon-cutting-05-18-2012-359
END:VEVENT

END:VCALENDAR
