BEGIN:VCALENDAR
VERSION:2.0
PRODID:-//ChamberMaster//Event Calendar 2.0//EN
METHOD:PUBLISH
X-PUBLISHED-TTL:P3D
REFRESH-INTERVAL:P3D
CALSCALE:GREGORIAN
BEGIN:VEVENT
DTSTART:20190730T150000Z
DTEND:20190730T153000Z
X-MICROSOFT-CDO-ALLDAYEVENT:FALSE
SUMMARY:Mississippi Valley Fair 100 Year Anniversary Celebration
DESCRIPTION:The Mississippi Valley Fair will be celebrating their 100 Year Anniversary on Tuesday\, July 30\, at 10:00 am. For those planning to attend\, please meet in front of the towers.
X-ALT-DESC;FMTTYPE=text/html:The Mississippi Valley Fair will be celebrating their 100 Year Anniversary on Tuesday\, July 30\, at 10:00 am. For those planning to attend\, please meet in front of the towers.
LOCATION:2815 W. Locust Street Davenport\, IA 52804
UID:e.2843.15477
SEQUENCE:3
DTSTAMP:20260422T114424Z
URL:https://member.quadcitieschamber.com/events/details/mississippi-valley-fair-100-year-anniversary-celebration-15477
END:VEVENT

END:VCALENDAR
