BEGIN:VCALENDAR
VERSION:2.0
PRODID:-//ChamberMaster//Event Calendar 2.0//EN
METHOD:PUBLISH
X-PUBLISHED-TTL:P3D
REFRESH-INTERVAL:P3D
CALSCALE:GREGORIAN
BEGIN:VEVENT
DTSTART:20180407T180000Z
DTEND:20180407T220000Z
X-MICROSOFT-CDO-ALLDAYEVENT:FALSE
SUMMARY:Moline Centre Cabin Fever Pub Crawl 2018
DESCRIPTION:Teams of 4 compete in this 14th Annual putt\, putt through downtown Moline Centre. Prizes for 1st place and Best Hole.\n\n\n\nDrink specials are available and each player receives an awesome steel pint glass.\n\n\n\nSign up NOW at one of the following locations:\n\n\n\n* Bad Boyz\n\n* Barrel House\n\n* Bent River Brewing Company\n\n* Bierstube\n\n* Broken Saddle\n\n* Nico's\n\n* O'Keefe's\n\n* Pub 1848\n\n* Rebellion Brew Haus\n\n* Steel Head Tavern\n\n* The Other Bar\n\n* Tommy's Bar\n\n* Union 525
X-ALT-DESC;FMTTYPE=text/html:<span style="font-family:arial\;"><span style="font-size:16px\;"><span style="background-image:initial\;background-position:initial\;background-size:initial\;background-repeat:initial\;background-attachment:initial\;background-origin:initial\;background-clip:initial\;"><span style="color:#4b4f56\;">Teams of 4 compete in this 14th Annual putt\, putt through downtown Moline Centre. Prizes for 1st place and Best Hole.</span></span><br />\n<br />\n<span style="color:#4B4F56\;"><span style="background-image:initial\;background-position:initial\;background-size:initial\;background-repeat:initial\;background-attachment:initial\;background-origin:initial\;background-clip:initial\;">Drink specials are available and each player receives an awesome steel pint glass.</span><br />\n<br />\n<span style="background-image:initial\;background-position:initial\;background-size:initial\;background-repeat:initial\;background-attachment:initial\;background-origin:initial\;background-clip:initial\;">Sign up NOW at one of the following locations:</span><br />\n<br />\n<span style="background-image:initial\;background-position:initial\;background-size:initial\;background-repeat:initial\;background-attachment:initial\;background-origin:initial\;background-clip:initial\;">* Bad Boyz</span><br />\n<span style="background-image:initial\;background-position:initial\;background-size:initial\;background-repeat:initial\;background-attachment:initial\;background-origin:initial\;background-clip:initial\;">* Barrel House</span><br />\n<span style="background-image:initial\;background-position:initial\;background-size:initial\;background-repeat:initial\;background-attachment:initial\;background-origin:initial\;background-clip:initial\;">* Bent River Brewing Company</span><br />\n<span style="background-image:initial\;background-position:initial\;background-size:initial\;background-repeat:initial\;background-attachment:initial\;background-origin:initial\;background-clip:initial\;">* Bierstube</span><br />\n<span style="background-image:initial\;background-position:initial\;background-size:initial\;background-repeat:initial\;background-attachment:initial\;background-origin:initial\;background-clip:initial\;">* Broken Saddle</span><br />\n<span style="background-image:initial\;background-position:initial\;background-size:initial\;background-repeat:initial\;background-attachment:initial\;background-origin:initial\;background-clip:initial\;">* Nico&#39\;s<br />\n* O&#39\;Keefe&#39\;s</span><br />\n* Pub 1848<br />\n* Rebellion Brew Haus<br />\n* Steel Head Tavern<br />\n* The Other Bar<br />\n* Tommy&#39\;s Bar</span><br />\n* Union 525</span></span>
LOCATION:Downtown Moline
UID:e.2843.10040
SEQUENCE:3
DTSTAMP:20260423T122910Z
URL:https://member.quadcitieschamber.com/events/details/moline-centre-cabin-fever-pub-crawl-2018-10040
END:VEVENT

END:VCALENDAR
