BEGIN:VCALENDAR
VERSION:2.0
PRODID:-//ChamberMaster//Event Calendar 2.0//EN
METHOD:PUBLISH
X-PUBLISHED-TTL:P3D
REFRESH-INTERVAL:P3D
CALSCALE:GREGORIAN
BEGIN:VEVENT
DTSTART:20140101T060000Z
DTEND:20140101T060000Z
X-MICROSOFT-CDO-ALLDAYEVENT:FALSE
SUMMARY:Moline Centre Main Street Advertising
DESCRIPTION:Moline Centre Main Street Advertising
X-ALT-DESC;FMTTYPE=text/html:Moline Centre Main Street Advertising
LOCATION:Downtown Moline
UID:e.2843.1909
SEQUENCE:3
DTSTAMP:20260422T013158Z
URL:https://member.quadcitieschamber.com/events/details/moline-centre-main-street-advertising-01-01-2014-1909
END:VEVENT

END:VCALENDAR
