BEGIN:VCALENDAR
VERSION:2.0
PRODID:-//ChamberMaster//Event Calendar 2.0//EN
METHOD:PUBLISH
X-PUBLISHED-TTL:P3D
REFRESH-INTERVAL:P3D
CALSCALE:GREGORIAN
BEGIN:VEVENT
DTSTART:20170901T000000Z
DTEND:20170901T020000Z
X-MICROSOFT-CDO-ALLDAYEVENT:FALSE
SUMMARY:Moline Centre Summer Concert Series 2017
DESCRIPTION:Rude Punch Presented by Courtesy Moline/Kimberly BMW\n\n \nRude Punch is a unique Reggae/Rock Band. Come witness this high energy group perform on The Plaza.\n\n\n\nFood and beverage available for purchase on site. Bring a lawn chair. No outside alcohol.The concerts run from 7:00 p.m. to 9:00 p.m. \n\n\n\nThe Moline Centre Thursday Night Summer Concert Series is brought to you in party by: Top-Notch Productions\, Townsquare Media\, OnMedia\, Mickle Communications and the iWireless Center.
X-ALT-DESC;FMTTYPE=text/html:<br />\n<span style="font-size:16px\;"><strong>Rude Punch Presented by Courtesy Moline/Kimberly BMW</strong></span><br />\n&nbsp\;\n<div><span style="color: rgb(75\, 79\, 86)\; font-family: Helvetica\, Arial\, sans-serif\; font-size: 14px\; background-color: rgb(255\, 255\, 255)\;">Rude Punch is a unique Reggae/Rock Band. Come witness this high energy group perform on The Plaza.</span><br style="color: rgb(75\, 79\, 86)\; font-family: Helvetica\, Arial\, sans-serif\; font-size: 14px\; background-color: rgb(255\, 255\, 255)\;" />\n<br style="color: rgb(75\, 79\, 86)\; font-family: Helvetica\, Arial\, sans-serif\; font-size: 14px\; background-color: rgb(255\, 255\, 255)\;" />\n<span style="color: rgb(75\, 79\, 86)\; font-family: Helvetica\, Arial\, sans-serif\; font-size: 14px\; background-color: rgb(255\, 255\, 255)\;">Food and beverage available for purchase on site. Bring a lawn chair. No outside alcohol.</span><span style="color: rgb(51\, 51\, 51)\; font-family: futura-pt\, sans-serif\; font-size: 14px\; background-color: rgb(255\, 255\, 255)\;">The concerts run from 7:00 p.m. to 9:00 p.m.&nbsp\;</span><br style="color: rgb(75\, 79\, 86)\; font-family: Helvetica\, Arial\, sans-serif\; font-size: 14px\; background-color: rgb(255\, 255\, 255)\;" />\n<br style="color: rgb(75\, 79\, 86)\; font-family: Helvetica\, Arial\, sans-serif\; font-size: 14px\; background-color: rgb(255\, 255\, 255)\;" />\n<span style="color: rgb(75\, 79\, 86)\; font-family: Helvetica\, Arial\, sans-serif\; font-size: 14px\; background-color: rgb(255\, 255\, 255)\;">The Moline Centre Thursday Night Summer Concert Series is brought to you in party by: Top-Notch Productions\, Townsquare Media\, OnMedia\, Mickle Communications and the iWireless Center.</span></div>\n\n<div>\n<p style="color: rgb(51\, 51\, 51)\; background-color: rgb(255\, 255\, 255)\; box-sizing: border-box\; margin: 0px 0px 7px\; font-family: futura-pt\, sans-serif\; font-size: 21px\;">&nbsp\;</p>\n</div>\n
LOCATION:The Plaza at Bass Street Landing 17th Street & River Drive Moline\, IL 61265
UID:e.2843.6395
SEQUENCE:3
DTSTAMP:20260424T002915Z
URL:https://member.quadcitieschamber.com/events/details/moline-centre-summer-concert-series-2017-6395
END:VEVENT

END:VCALENDAR
