BEGIN:VCALENDAR
VERSION:2.0
PRODID:-//ChamberMaster//Event Calendar 2.0//EN
METHOD:PUBLISH
X-PUBLISHED-TTL:P3D
REFRESH-INTERVAL:P3D
CALSCALE:GREGORIAN
BEGIN:VEVENT
DTSTART:20180706T000000Z
DTEND:20180706T020000Z
X-MICROSOFT-CDO-ALLDAYEVENT:FALSE
SUMMARY:Moline Centre Summer Concert Series- Featuring 50 Shades of Rock
DESCRIPTION:50 Shades of Rock Presented by Courtesy Moline/Kimberly BMW\n\n\n\nWhether you're a fan of classic rock\, live music or just hanging out with friends\, you won't want to miss 50 Shades of Rock! These guys play the cover songs that have shaped rock n roll history. Bon Jovi\, Johnny Cash\, The Rolling Stones\, Garth Brooks and The Beatles are just a sampling of the artists that this band will be playing on The Plaza.\n\n\n\nFood and beverage available for purchase on site. Bring a lawn chair. No outside alcohol.
X-ALT-DESC;FMTTYPE=text/html:<br />\n<strong>50 Shades of Rock Presented by Courtesy Moline/Kimberly BMW</strong><br />\n<br />\n<span style="color: rgb(75\, 79\, 86)\; font-family: Helvetica\, Arial\, sans-serif\; font-size: 14px\; background-color: rgb(255\, 255\, 255)\;">Whether you&rsquo\;re a fan of classic rock\, live music or just hanging out with friends\, you won&rsquo\;t want to miss 50 Shades of Rock! These guys play the cover songs that have shaped rock n roll history. Bon Jovi\, Johnny Cash\, The Rolling Stones\, Garth Brooks and The Beatles are just a sampling of the artists that this band will be playing on The Plaza.</span><br style="color: rgb(75\, 79\, 86)\; font-family: Helvetica\, Arial\, sans-serif\; font-size: 14px\; background-color: rgb(255\, 255\, 255)\;" />\n<br style="color: rgb(75\, 79\, 86)\; font-family: Helvetica\, Arial\, sans-serif\; font-size: 14px\; background-color: rgb(255\, 255\, 255)\;" />\n<span style="color:#FF0000\;"><span style="font-family: Helvetica\, Arial\, sans-serif\; font-size: 14px\; background-color: rgb(255\, 255\, 255)\;">Food and beverage available for purchase on site. Bring a lawn chair. No outside alcohol.</span></span><br />\n&nbsp\;
LOCATION:The Plaza at Bass Street Landing 17th Street & River Drive Moline\, IL 61265
UID:e.2843.12100
SEQUENCE:3
DTSTAMP:20260423T075644Z
URL:https://member.quadcitieschamber.com/events/details/moline-centre-summer-concert-series-featuring-50-shades-of-rock-07-05-2018-12100
END:VEVENT

END:VCALENDAR
