BEGIN:VCALENDAR
VERSION:2.0
PRODID:-//ChamberMaster//Event Calendar 2.0//EN
METHOD:PUBLISH
X-PUBLISHED-TTL:P3D
REFRESH-INTERVAL:P3D
CALSCALE:GREGORIAN
BEGIN:VEVENT
DTSTART:20170728T000000Z
DTEND:20170728T020000Z
X-MICROSOFT-CDO-ALLDAYEVENT:FALSE
SUMMARY:Moline Centre Summer Concert Series Featuring 50 Shades of Rock
DESCRIPTION:50 Shades of Rock Presented by Courtesy Moline/Kimberly BMW\n\n\n\nWhether you're a fan of classic rock\, live music or just hanging out with friends\, you won't want to miss 50 Shades of Rock! These guys play the cover songs that have shaped rock n roll history. Bon Jovi\, Johnny Cash\, The Rolling Stones\, Garth Brooks and The Beatles are just a sampling of the artists that this band will be playing on The Plaza.\n\n \n\nThe concerts run from 7:00 p.m. to 9:00 p.m. Food and beverage available for purchase on site.  Bring a lawn chair.  No outside alcohol.
X-ALT-DESC;FMTTYPE=text/html:<br />\n<span style="font-size:16px\;"><strong>50 Shades of Rock Presented by Courtesy Moline/Kimberly BMW</strong></span><br />\n<br />\n<span style="color: rgb(75\, 79\, 86)\; font-family: Helvetica\, Arial\, sans-serif\; font-size: 14px\; background-color: rgb(255\, 255\, 255)\;">Whether you&rsquo\;re a fan of classic rock\, live music or just hanging out with friends\, you won&rsquo\;t want to miss 50 Shades of Rock! These guys play the cover songs that have shaped rock n roll history. Bon Jovi\, Johnny Cash\, The Rolling Stones\, Garth Brooks and The Beatles are just a sampling of the artists that this band will be playing on The Plaza.</span><br />\n&nbsp\;\n<div>\n<p style="color: rgb(51\, 51\, 51)\; background-color: rgb(255\, 255\, 255)\; box-sizing: border-box\; margin: 0px 0px 7px\; font-family: futura-pt\, sans-serif\; font-size: 21px\;"><span style="font-size: 14px\;">The concerts run from 7:00 p.m. to 9:00 p.m.&nbsp\;Food and beverage available for purchase on site. &nbsp\;Bring a lawn chair. &nbsp\;No outside alcohol.</span></p>\n\n<p style="color: rgb(51\, 51\, 51)\; background-color: rgb(255\, 255\, 255)\; box-sizing: border-box\; margin: 0px 0px 7px\; font-family: futura-pt\, sans-serif\; font-size: 21px\;">&nbsp\;</p>\n</div>\n
LOCATION:The Plaza at Bass Street Landing 17th Street & River Drive Downtown Moline\, IL 61265
UID:e.2843.6101
SEQUENCE:3
DTSTAMP:20260424T003331Z
URL:https://member.quadcitieschamber.com/events/details/moline-centre-summer-concert-series-featuring-50-shades-of-rock-6101
END:VEVENT

END:VCALENDAR
