BEGIN:VCALENDAR
VERSION:2.0
PRODID:-//ChamberMaster//Event Calendar 2.0//EN
METHOD:PUBLISH
X-PUBLISHED-TTL:P3D
REFRESH-INTERVAL:P3D
CALSCALE:GREGORIAN
BEGIN:VEVENT
DTSTART:20180713T000000Z
DTEND:20180713T020000Z
X-MICROSOFT-CDO-ALLDAYEVENT:FALSE
SUMMARY:Moline Centre Summer Concert Series- Featuring Corporate Rock
DESCRIPTION:Corporate Rock Presented by Courtesy Moline/Kimberly BMW \n\n\n\nThese guys play rock\, pop\, and a little country from the 60's through current day! Something for everyone!\n\n\n\nFood and beverage available for purchase on site. Bring a lawn chair. No outside alcohol.
X-ALT-DESC;FMTTYPE=text/html:<br>\n<strong>Corporate Rock Presented by Courtesy Moline/Kimberly BMW </strong><br>\n<br>\nThese guys play rock\, pop\, and a little country from the 60's through current day! Something for everyone!<br>\n<br>\n<span style="color:#FF0000\;">Food and beverage available for purchase on site. Bring a lawn chair. No outside alcohol.</span><br>\n<br>\n<br>\n&nbsp\;
LOCATION:The Plaza at Bass Street Landing 17th Street & River Drive Moline\, IL 61265
UID:e.2843.12101
SEQUENCE:3
DTSTAMP:20260423T075247Z
URL:https://member.quadcitieschamber.com/events/details/moline-centre-summer-concert-series-featuring-corporate-rock-12101
END:VEVENT

END:VCALENDAR
