BEGIN:VCALENDAR
VERSION:2.0
PRODID:-//ChamberMaster//Event Calendar 2.0//EN
METHOD:PUBLISH
X-PUBLISHED-TTL:P3D
REFRESH-INTERVAL:P3D
CALSCALE:GREGORIAN
BEGIN:VEVENT
DTSTART:20180608T000000Z
DTEND:20180608T020000Z
X-MICROSOFT-CDO-ALLDAYEVENT:FALSE
SUMMARY:Moline Centre Summer Concert Series- Featuring Dani Lynn Howe
DESCRIPTION:Dani Lynn Howe Presented by Courtesy Moline/Kimberly BMW\n\n\n\nThe Dani Lynn Howe Band plays classic rock and a little bit of country.\n\nCome on down to The Plaza and check them out!\n\n\n\nFood and beverage available for purchase on site. Bring a lawn chair. No outside alcohol.
X-ALT-DESC;FMTTYPE=text/html:<br />\n<strong>Dani&nbsp\;Lynn Howe Presented by Courtesy Moline/Kimberly BMW</strong><br />\n<br />\nThe Dani Lynn Howe Band plays classic rock and a little bit of country.<br />\nCome on down to The Plaza and check them out!<br />\n<br />\n<span style="color:#FF0000\;">Food and beverage available for purchase on site. Bring a lawn chair. No outside alcohol.</span>
LOCATION:The Plaza at Bass Street Landing 17th Street & River Drive Moline\, IL 61265
UID:e.2843.12096
SEQUENCE:3
DTSTAMP:20260423T091335Z
URL:https://member.quadcitieschamber.com/events/details/moline-centre-summer-concert-series-featuring-dani-lynn-howe-12096
END:VEVENT

END:VCALENDAR
