BEGIN:VCALENDAR
VERSION:2.0
PRODID:-//ChamberMaster//Event Calendar 2.0//EN
METHOD:PUBLISH
X-PUBLISHED-TTL:P3D
REFRESH-INTERVAL:P3D
CALSCALE:GREGORIAN
BEGIN:VEVENT
DTSTART:20180629T000000Z
DTEND:20180629T020000Z
X-MICROSOFT-CDO-ALLDAYEVENT:FALSE
SUMMARY:Moline Centre Summer Concert Series- Featuring Gray Wolf
DESCRIPTION:Gray Wolf Presented by Courtesy Moline/Kimberly BMW\n\n\n\nEmbrace the night as Gray Wolf covers all of your favorite classic Rock-n-Roll hits!\n\n\n\nFood and beverages available for purchase on site. Bring a lawn chair. No outside alcohol.
X-ALT-DESC;FMTTYPE=text/html:<br />\n<strong>Gray Wolf Presented by Courtesy Moline/Kimberly BMW</strong><br />\n<br />\n<span style="color: rgb(75\, 79\, 86)\; font-family: Helvetica\, Arial\, sans-serif\; font-size: 14px\; background-color: rgb(255\, 255\, 255)\;">Embrace the night as Gray Wolf covers all of your favorite classic Rock-n-Roll hits!</span><br />\n<br />\n<span style="color:#FF0000\;"><span style="font-size:14px\;">Food and beverages available for purchase on site. Bring a lawn chair. No outside alcohol.</span></span>
LOCATION:The Plaza at Bass Street Landing 17th Street & River Drive Moline\, IL 61265
UID:e.2843.12099
SEQUENCE:3
DTSTAMP:20260423T092304Z
URL:https://member.quadcitieschamber.com/events/details/moline-centre-summer-concert-series-featuring-gray-wolf-06-28-2018-12099
END:VEVENT

END:VCALENDAR
