BEGIN:VCALENDAR
VERSION:2.0
PRODID:-//ChamberMaster//Event Calendar 2.0//EN
METHOD:PUBLISH
X-PUBLISHED-TTL:P3D
REFRESH-INTERVAL:P3D
CALSCALE:GREGORIAN
BEGIN:VEVENT
DTSTART:20180727T000000Z
DTEND:20180727T020000Z
X-MICROSOFT-CDO-ALLDAYEVENT:FALSE
SUMMARY:Moline Centre Summer Concert Series- Featuring High Top Fade
DESCRIPTION:High Top Fade Presented by Courtesy Moline/Kimberly BMW\n\n\n\nThis 6-piece QC based rock and roll cover band will have you dancing all night! They play classics from The Rolling Stones\, Tom Petty\, Nocturnals\, and Mumford & Sons\, just to name a few.\n\n\n\nFood and beverage available for purchase on site. Bring a lawn chair. No outside alcohol.
X-ALT-DESC;FMTTYPE=text/html:<br />\n<strong>High Top Fade Presented by Courtesy Moline/Kimberly BMW</strong><br />\n<br />\n<span style="color: rgb(75\, 79\, 86)\; font-family: Helvetica\, Arial\, sans-serif\; font-size: 14px\; background-color: rgb(255\, 255\, 255)\;">This 6-piece QC based rock and roll cover band will have you dancing all night! They play classics from The Rolling Stones\, Tom Petty\, Nocturnals\, and Mumford &amp\; Sons\, just to name a few.</span><br style="color: rgb(75\, 79\, 86)\; font-family: Helvetica\, Arial\, sans-serif\; font-size: 14px\; background-color: rgb(255\, 255\, 255)\;" />\n<br style="color: rgb(75\, 79\, 86)\; font-family: Helvetica\, Arial\, sans-serif\; font-size: 14px\; background-color: rgb(255\, 255\, 255)\;" />\n<span style="color:#FF0000\;"><span style="font-family: Helvetica\, Arial\, sans-serif\; font-size: 14px\; background-color: rgb(255\, 255\, 255)\;">Food and beverage available for purchase on site. Bring a lawn chair. No outside alcohol.</span></span><br />\n&nbsp\;
LOCATION:The Plaza at Bass Street Landing 17th Street & River Drive Moline\, IL 61265
UID:e.2843.12103
SEQUENCE:3
DTSTAMP:20260423T092330Z
URL:https://member.quadcitieschamber.com/events/details/moline-centre-summer-concert-series-featuring-high-top-fade-12103
END:VEVENT

END:VCALENDAR
