BEGIN:VCALENDAR
VERSION:2.0
PRODID:-//ChamberMaster//Event Calendar 2.0//EN
METHOD:PUBLISH
X-PUBLISHED-TTL:P3D
REFRESH-INTERVAL:P3D
CALSCALE:GREGORIAN
BEGIN:VEVENT
DTSTART:20170720T230000Z
DTEND:20170721T000000Z
X-MICROSOFT-CDO-ALLDAYEVENT:FALSE
SUMMARY:Moline Centre Summer Concert Series Featuring John Lindahl
DESCRIPTION:John Lindahl Presented by Courtesy Moline/Kimberly BMW\n\n\n\nHead on down to The Plaza and welcome 20-year old up-and-coming singer\, dancer\, songwriter and musician\, John Lindahl. \n\n\n\nJohn obtained a record deal at the age of 17\, sang at the Grammys last year with Ed Sheeran\, and has recently been composing new music with such A-list writers and producers as Justin Timberlake\, Timbaland\, Harmony Samuels and more. The QC is lucky to have scored a date with this energetic\, talented young man\, so mark your calendars\, and come watch this rising star explode on stage!\n\nJohn will be performing as the opener tonight. The summer concerts run from 7:00 p.m. to 9:00 p.m. Food and beverage available for purchase on site.  Bring a lawn chair.  No outside alcohol.
X-ALT-DESC;FMTTYPE=text/html:<br />\n<span style="font-size:16px\;"><strong>John Lindahl Presented by Courtesy Moline/Kimberly BMW</strong></span><br />\n<br />\n<span style="color: rgb(75\, 79\, 86)\; font-family: Helvetica\, Arial\, sans-serif\; font-size: 14px\; background-color: rgb(255\, 255\, 255)\;">Head on down to The Plaza and welcome 20-year old up-and-coming singer\, dancer\, songwriter and musician\, John Lindahl.&nbsp\;</span><br style="color: rgb(75\, 79\, 86)\; font-family: Helvetica\, Arial\, sans-serif\; font-size: 14px\; background-color: rgb(255\, 255\, 255)\;" />\n<br style="color: rgb(75\, 79\, 86)\; font-family: Helvetica\, Arial\, sans-serif\; font-size: 14px\; background-color: rgb(255\, 255\, 255)\;" />\n<span style="color: rgb(75\, 79\, 86)\; font-family: Helvetica\, Arial\, sans-serif\; font-size: 14px\; background-color: rgb(255\, 255\, 255)\;">John obtained a record deal at the age of 17\, sang at the Grammys last year with Ed Sheeran\, and has recently been composing new music with such A-list writers and producers as Justin Timberlake\, Timbaland\, Harmony Samuels and more. The QC is lucky to have scored a date with this energetic\, talented young man\, so mark your calendars\, and come watch this rising star explode on stage!</span>\n<div>\n<p style="color: rgb(51\, 51\, 51)\; background-color: rgb(255\, 255\, 255)\; box-sizing: border-box\; margin: 0px 0px 7px\; font-family: futura-pt\, sans-serif\; font-size: 21px\;"><span style="font-size: 14px\;">John will be performing as the opener tonight. The summer concerts run from 7:00 p.m. to 9:00 p.m.&nbsp\;Food and beverage available for purchase on site. &nbsp\;Bring a lawn chair. &nbsp\;No outside alcohol.</span></p>\n\n<p style="color: rgb(51\, 51\, 51)\; background-color: rgb(255\, 255\, 255)\; box-sizing: border-box\; margin: 0px 0px 7px\; font-family: futura-pt\, sans-serif\; font-size: 21px\;">&nbsp\;</p>\n</div>\n
LOCATION:The Plaza at Bass Street Landing 17th Street & River Drive Downtown Moline\, IL 61265
UID:e.2843.6099
SEQUENCE:3
DTSTAMP:20260424T003100Z
URL:https://member.quadcitieschamber.com/events/details/moline-centre-summer-concert-series-featuring-john-lindahl-6099
END:VEVENT

END:VCALENDAR
