BEGIN:VCALENDAR
VERSION:2.0
PRODID:-//ChamberMaster//Event Calendar 2.0//EN
METHOD:PUBLISH
X-PUBLISHED-TTL:P3D
REFRESH-INTERVAL:P3D
CALSCALE:GREGORIAN
BEGIN:VEVENT
DTSTART:20170818T000000Z
DTEND:20170818T020000Z
X-MICROSOFT-CDO-ALLDAYEVENT:FALSE
SUMMARY:Moline Centre Summer Concert Series Featuring Los Mocambos
DESCRIPTION:Los Mocambos Presented by Courtesy Moline/Kimberly BMW\n\n\n\nLos Mocambos is a great local band that plays traditional Mexican music\, with a side of classic American sounds from the 60's and 70's. \n\nThe concerts run from 7:00 p.m. to 9:00 p.m. Food and beverage available for purchase on site.  Bring a lawn chair.  No outside alcohol.
X-ALT-DESC;FMTTYPE=text/html:<br />\n<span style="font-size:16px\;"><strong>Los Mocambos Presented by Courtesy Moline/Kimberly BMW</strong></span><br />\n<br />\n<span style="color: rgb(75\, 79\, 86)\; font-family: Helvetica\, Arial\, sans-serif\; font-size: 14px\; background-color: rgb(255\, 255\, 255)\;">Los Mocambos is a great local band that plays traditional Mexican music\, with a side of classic American sounds from the 60&#39\;s and 70&#39\;s.&nbsp\;</span>\n<div>\n<p style="color: rgb(51\, 51\, 51)\; background-color: rgb(255\, 255\, 255)\; box-sizing: border-box\; margin: 0px 0px 7px\; font-family: futura-pt\, sans-serif\; font-size: 21px\;"><span style="font-size: 14px\;">The concerts run from 7:00 p.m. to 9:00 p.m.&nbsp\;Food and beverage available for purchase on site. &nbsp\;Bring a lawn chair. &nbsp\;No outside alcohol.</span></p>\n\n<p style="color: rgb(51\, 51\, 51)\; background-color: rgb(255\, 255\, 255)\; box-sizing: border-box\; margin: 0px 0px 7px\; font-family: futura-pt\, sans-serif\; font-size: 21px\;">&nbsp\;</p>\n</div>\n
LOCATION:The Plaza at Bass Street Landing 17th Street & River Drive Downtown Moline\, IL 61265
UID:e.2843.6322
SEQUENCE:3
DTSTAMP:20260423T231513Z
URL:https://member.quadcitieschamber.com/events/details/moline-centre-summer-concert-series-featuring-los-mocambos-6322
END:VEVENT

END:VCALENDAR
