BEGIN:VCALENDAR
VERSION:2.0
PRODID:-//ChamberMaster//Event Calendar 2.0//EN
METHOD:PUBLISH
X-PUBLISHED-TTL:P3D
REFRESH-INTERVAL:P3D
CALSCALE:GREGORIAN
BEGIN:VEVENT
DTSTART:20180720T000000Z
DTEND:20180720T020000Z
X-MICROSOFT-CDO-ALLDAYEVENT:FALSE
SUMMARY:Moline Centre Summer Concert Series- Featuring Minus Six
DESCRIPTION:Minus Six Presented by Courtesy Moline/Kimberly BMW\n\n\n\nA guitarless rock band may seem strange at first\, but the piano\, bass\, drums\, and sax group\, Minus Six\, have proven they can derive an impressive rock sound despite not having a guitar\, thus leading to the band's name Minus Six.\n\n\n\nFood and beverage available for purchase on site. Bring a lawn chair. No outside alcohol.
X-ALT-DESC;FMTTYPE=text/html:<br />\n<strong>Minus Six Presented by Courtesy Moline/Kimberly BMW</strong><br />\n<br />\n<span style="color: rgb(75\, 79\, 86)\; font-family: Helvetica\, Arial\, sans-serif\; font-size: 14px\; background-color: rgb(255\, 255\, 255)\;">A guitarless rock band may seem strange at first\, but the piano\, bass\, drums\, and sax group\, Minus Six\, have proven they can derive an impressive rock sound despite not having a guitar\, thus leading to the band&rsquo\;s name Minus Six.</span><br />\n<br />\n<span style="color:#FF0000\;"><span style="font-family: Helvetica\, Arial\, sans-serif\; font-size: 14px\; background-color: rgb(255\, 255\, 255)\;">Food and beverage available for purchase on site. Bring a lawn chair. No outside alcohol.</span></span>
LOCATION:The Plaza at Bass Street Landing 17th Street & River Drive Moline\, IL 61265
UID:e.2843.12102
SEQUENCE:3
DTSTAMP:20260423T074941Z
URL:https://member.quadcitieschamber.com/events/details/moline-centre-summer-concert-series-featuring-minus-six-07-19-2018-12102
END:VEVENT

END:VCALENDAR
