BEGIN:VCALENDAR
VERSION:2.0
PRODID:-//ChamberMaster//Event Calendar 2.0//EN
METHOD:PUBLISH
X-PUBLISHED-TTL:P3D
REFRESH-INTERVAL:P3D
CALSCALE:GREGORIAN
BEGIN:VEVENT
DTSTART:20180601T000000Z
DTEND:20180601T020000Z
X-MICROSOFT-CDO-ALLDAYEVENT:FALSE
SUMMARY:Moline Centre Summer Concert Series- Featuring Smooth Groove
DESCRIPTION:Smooth Groove Presented by Courtesy Moline/Kimberly BMW\n\n\n\nSmooth Groove's vocal harmonies\, spicy latino beat and keyboards add that extra flavor in the styles of music that they perform. The band covers songs and artists which include Santana\, Prince\, The Doobie Brothers\, Michael Jackson\, The Temptations and much\, much more! Smooth Groove is one of the best dance bands in the QC!\n\n\n\nFood and beverages available for purchase on site. Bring a lawn chair. No outside alcohol.
X-ALT-DESC;FMTTYPE=text/html:<br />\n<strong><span style="color:#000000\;">Smooth Groove Presented by Courtesy Moline/Kimberly BMW</span></strong><br />\n<br />\n<span style="color: rgb(75\, 79\, 86)\; font-family: Helvetica\, Arial\, sans-serif\; font-size: 14px\; background-color: rgb(255\, 255\, 255)\;">Smooth Groove&rsquo\;s vocal harmonies\, spicy latino beat and keyboards add that extra flavor in the styles of music that they perform. The band covers songs and artists which include Santana\, Prince\, The Doobie Brothers\, Michael Jackson\, The Temptations and much\, much more! Smooth Groove is one of the best dance bands in the QC!</span><br style="color: rgb(75\, 79\, 86)\; font-family: Helvetica\, Arial\, sans-serif\; font-size: 14px\; background-color: rgb(255\, 255\, 255)\;" />\n<br style="color: rgb(75\, 79\, 86)\; font-family: Helvetica\, Arial\, sans-serif\; font-size: 14px\; background-color: rgb(255\, 255\, 255)\;" />\n<span style="color:#FF0000\;"><span style="font-family: Helvetica\, Arial\, sans-serif\; font-size: 14px\; background-color: rgb(255\, 255\, 255)\;">Food and beverages available for purchase on site. Bring a lawn chair. No outside alcohol.</span></span><br style="color: rgb(75\, 79\, 86)\; font-family: Helvetica\, Arial\, sans-serif\; font-size: 14px\; background-color: rgb(255\, 255\, 255)\;" />\n<br style="color: rgb(75\, 79\, 86)\; font-family: Helvetica\, Arial\, sans-serif\; font-size: 14px\; background-color: rgb(255\, 255\, 255)\;" />\n&nbsp\;
LOCATION:The Plaza at Bass Street Landing 17th Street & River Drive Moline\, IL 61265
UID:e.2843.12095
SEQUENCE:3
DTSTAMP:20260423T104951Z
URL:https://member.quadcitieschamber.com/events/details/moline-centre-summer-concert-series-featuring-smooth-groove-12095
END:VEVENT

END:VCALENDAR
