BEGIN:VCALENDAR
VERSION:2.0
PRODID:-//ChamberMaster//Event Calendar 2.0//EN
METHOD:PUBLISH
X-PUBLISHED-TTL:P3D
REFRESH-INTERVAL:P3D
CALSCALE:GREGORIAN
BEGIN:VEVENT
DTSTART:20180831T000000Z
DTEND:20180831T020000Z
X-MICROSOFT-CDO-ALLDAYEVENT:FALSE
SUMMARY:Moline Centre Summer Concert Series- Featuring Soul Storm
DESCRIPTION:Soul Storm Presented by Courtesy Moline/Kimberly BMW\n\n\n\nSoul Storm is made up of 8 jazzy-funky musicians who perform Pop\, Rock\, Soul and R&B (plus a few extras). Delivering tunes ranging from the 1960's through Today\, this group of musicians puts a groove-worthy twist on some of your favorite tunes. The Soul Storm message is simple: Make good music and get people movin'!\n\n\n\nFood and beverage available for purchase on site. Bring a lawn chair. No outside alcohol.
X-ALT-DESC;FMTTYPE=text/html:<br />\n<strong>Soul Storm Presented by Courtesy Moline/Kimberly BMW</strong><br />\n<br />\n<span style="color: rgb(75\, 79\, 86)\; font-family: Helvetica\, Arial\, sans-serif\; font-size: 14px\; background-color: rgb(255\, 255\, 255)\;">Soul Storm is made up of 8 jazzy-funky musicians who perform Pop\, Rock\, Soul and R&amp\;B (plus a few extras). Delivering tunes ranging from the 1960&#39\;s through Today\, this group of musicians puts a groove-worthy twist on some of your favorite tunes. The Soul Storm message is simple: Make good music and get people movin&#39\;!</span><br style="color: rgb(75\, 79\, 86)\; font-family: Helvetica\, Arial\, sans-serif\; font-size: 14px\; background-color: rgb(255\, 255\, 255)\;" />\n<br style="color: rgb(75\, 79\, 86)\; font-family: Helvetica\, Arial\, sans-serif\; font-size: 14px\; background-color: rgb(255\, 255\, 255)\;" />\n<span style="color:#FF0000\;"><span style="font-family: Helvetica\, Arial\, sans-serif\; font-size: 14px\; background-color: rgb(255\, 255\, 255)\;">Food and beverage available for purchase on site. Bring a lawn chair. No outside alcohol.</span></span>
LOCATION:The Plaza at Bass Street Landing 17th Street & River Drive Moline\, IL 61265
UID:e.2843.12108
SEQUENCE:3
DTSTAMP:20260423T062350Z
URL:https://member.quadcitieschamber.com/events/details/moline-centre-summer-concert-series-featuring-soul-storm-08-30-2018-12108
END:VEVENT

END:VCALENDAR
