BEGIN:VCALENDAR
VERSION:2.0
PRODID:-//ChamberMaster//Event Calendar 2.0//EN
METHOD:PUBLISH
X-PUBLISHED-TTL:P3D
REFRESH-INTERVAL:P3D
CALSCALE:GREGORIAN
BEGIN:VEVENT
DTSTART:20180824T000000Z
DTEND:20180824T020000Z
X-MICROSOFT-CDO-ALLDAYEVENT:FALSE
SUMMARY:Moline Centre Summer Concert Series- Featuring The Candymakers
DESCRIPTION:The Candymakers Presented by Courtesy Moline/Kimberly BMW\n\n\n\nThe Candymakers are a Rock N' Soul band with the traditions of old school R & B Funk. This young band offers a sound that is contemporary\, yet keeps the essence of music past.\n\n\n\nFood and beverage available for purchase on site. Bring a lawn chair. No outside alcohol.
X-ALT-DESC;FMTTYPE=text/html:<br />\n<strong>The Candymakers Presented by Courtesy Moline/Kimberly BMW</strong><br />\n<br />\n<span style="color: rgb(75\, 79\, 86)\; font-family: Helvetica\, Arial\, sans-serif\; font-size: 14px\; background-color: rgb(255\, 255\, 255)\;">The Candymakers are a Rock N&#39\; Soul band with the traditions of old school R &amp\; B Funk. This young band offers a sound that is contemporary\, yet keeps the essence of music past.</span><br style="color: rgb(75\, 79\, 86)\; font-family: Helvetica\, Arial\, sans-serif\; font-size: 14px\; background-color: rgb(255\, 255\, 255)\;" />\n<br style="color: rgb(75\, 79\, 86)\; font-family: Helvetica\, Arial\, sans-serif\; font-size: 14px\; background-color: rgb(255\, 255\, 255)\;" />\n<span style="color:#FF0000\;"><span style="font-family: Helvetica\, Arial\, sans-serif\; font-size: 14px\; background-color: rgb(255\, 255\, 255)\;">Food and beverage available for purchase on site. Bring a lawn chair. No outside alcohol.</span></span>
LOCATION:The Plaza at Bass Street Landing 17th Street & River Drive Moline\, IL 61265
UID:e.2843.12107
SEQUENCE:3
DTSTAMP:20260423T080716Z
URL:https://member.quadcitieschamber.com/events/details/moline-centre-summer-concert-series-featuring-the-candymakers-08-23-2018-12107
END:VEVENT

END:VCALENDAR
