BEGIN:VCALENDAR
VERSION:2.0
PRODID:-//ChamberMaster//Event Calendar 2.0//EN
METHOD:PUBLISH
X-PUBLISHED-TTL:P3D
REFRESH-INTERVAL:P3D
CALSCALE:GREGORIAN
BEGIN:VEVENT
DTSTART:20180615T000000Z
DTEND:20180615T020000Z
X-MICROSOFT-CDO-ALLDAYEVENT:FALSE
SUMMARY:Moline Centre Summer Concert Series- Featuring the Crooked Cactus Band
DESCRIPTION:The Crooked Cactus Band Presented by Courtesy Moline/Kimberly BMW\n\n\n\nDowntown Moline is HOT in the summer and the Moline Concert Series is keeping that fire going. The Crooked Cactus Band will take the stage and perform popular American Rock songs with plenty of Latino flavor including hits by Carlos Santana and a couple of Mexican favorites by Vicente Fernandez. \n\n \n\n\n\nFood and beverage available for purchase on site.  Bring a lawn chair. No outside alcohol.
X-ALT-DESC;FMTTYPE=text/html:<br />\n<strong>The Crooked Cactus Band Presented by Courtesy Moline/Kimberly BMW</strong><br />\n<br />\n<span style="font-family:times new roman\,serif\;"><span style="font-size:12.0pt\;">Downtown Moline is HOT in the summer and the Moline Concert Series is keeping that fire going. The Crooked Cactus Band will take the stage and perform popular American Rock songs with plenty of Latino flavor including hits by Carlos Santana and a couple of Mexican favorites by Vicente Fernandez. </span></span><br />\n&nbsp\;<br />\n<br />\n<span style="color:#FF0000\;">Food and beverage available for purchase on site.&nbsp\; Bring a lawn chair. No outside alcohol.</span><br />\n&nbsp\;
LOCATION:The Plaza at Bass Street Landing 17th Street & River Drive Moline\, IL 61265
UID:e.2843.12097
SEQUENCE:3
DTSTAMP:20260423T092407Z
URL:https://member.quadcitieschamber.com/events/details/moline-centre-summer-concert-series-featuring-the-crooked-cactus-band-12097
END:VEVENT

END:VCALENDAR
