BEGIN:VCALENDAR
VERSION:2.0
PRODID:-//ChamberMaster//Event Calendar 2.0//EN
METHOD:PUBLISH
X-PUBLISHED-TTL:P3D
REFRESH-INTERVAL:P3D
CALSCALE:GREGORIAN
BEGIN:VEVENT
DTSTART:20180810T000000Z
DTEND:20180810T020000Z
X-MICROSOFT-CDO-ALLDAYEVENT:FALSE
SUMMARY:Moline Centre Summer Concert Series- Featuring The Stone Flowers
DESCRIPTION:The Stone Flowers Presented by Courtesy Moline/Kimberly BMW\n\n\n\nMusic from The Stone Flowers includes such popular sounds from James Brown to Pearl Jam\, covering all areas of rock\, funk and soul. One of the most entertaining bands around!\n\n\n\nFood and beverage available for purchase on site. Bring a lawn chair. No outside alcohol.
X-ALT-DESC;FMTTYPE=text/html:<br />\n<strong>The Stone Flowers Presented by Courtesy Moline/Kimberly BMW</strong><br />\n<br />\nMusic from The Stone Flowers includes such popular sounds from James Brown to Pearl Jam\, covering all areas of rock\, funk and soul. One of the most entertaining bands around!<br />\n<br />\n<span style="color:#FF0000\;">Food and beverage available for purchase on site. Bring a lawn chair. No outside alcohol.</span>
LOCATION:The Plaza at Bass Street Landing 17th Street & River Drive Moline\, IL 61265
UID:e.2843.12105
SEQUENCE:3
DTSTAMP:20260423T062238Z
URL:https://member.quadcitieschamber.com/events/details/moline-centre-summer-concert-series-featuring-the-stone-flowers-12105
END:VEVENT

END:VCALENDAR
