BEGIN:VCALENDAR
VERSION:2.0
PRODID:-//ChamberMaster//Event Calendar 2.0//EN
METHOD:PUBLISH
X-PUBLISHED-TTL:P3D
REFRESH-INTERVAL:P3D
CALSCALE:GREGORIAN
BEGIN:VEVENT
DTSTART:20180817T000000Z
DTEND:20180817T020000Z
X-MICROSOFT-CDO-ALLDAYEVENT:FALSE
SUMMARY:Moline Centre Summer Concert Series- Featuring The Tailfins
DESCRIPTION:The Tailfins Presented by Courtesy Moline/Kimberly BMW\n\n\n\nCheck out this get-up-and-dance band with musical tributes to early Rock & Roll. This band brings a ton of energy and excitement with hits from the 50's through the 80's!\n\n\n\nFood and beverages available for purchase on site. Bring a lawn chair. No outside alcohol.
X-ALT-DESC;FMTTYPE=text/html:<br />\n<strong>The Tailfins Presented by Courtesy Moline/Kimberly BMW</strong><br />\n<br />\nCheck out this get-up-and-dance band with musical tributes to early Rock &amp\; Roll. This band brings a ton of energy and excitement with hits from the 50&#39\;s through the 80&#39\;s!<br />\n<br />\n<span style="color:#FF0000\;">Food and beverages available for purchase on site. Bring a lawn chair. No outside alcohol.</span>
LOCATION:The Plaza at Bass Street Landing 17th Street & River Drive Moline\, IL 61265
UID:e.2843.12106
SEQUENCE:3
DTSTAMP:20260423T062028Z
URL:https://member.quadcitieschamber.com/events/details/moline-centre-summer-concert-series-featuring-the-tailfins-12106
END:VEVENT

END:VCALENDAR
