BEGIN:VCALENDAR
VERSION:2.0
PRODID:-//ChamberMaster//Event Calendar 2.0//EN
METHOD:PUBLISH
X-PUBLISHED-TTL:P3D
REFRESH-INTERVAL:P3D
CALSCALE:GREGORIAN
BEGIN:VEVENT
DTSTART:20180622T000000Z
DTEND:20180622T020000Z
X-MICROSOFT-CDO-ALLDAYEVENT:FALSE
SUMMARY:Moline Centre Summer Concert Series- Featuring Wicked Liz & The Bellyswirls
DESCRIPTION:Wicked Liz & The Bellyswirls Presented by Courtesy Moline/Kimberly BMW\n\n\n\nWith a constant touring schedule\, 3 independently released albums\, a high energy live show and a charismatic front person\, Wicked Liz & the Bellyswirls have distinguished themselves as one of the Midwest's hardest working bands!\n\n\n\nFood and beverage available for purchase on site. Bring a lawn chair. No outside alcohol.
X-ALT-DESC;FMTTYPE=text/html:<br />\n<strong>Wicked Liz &amp\; The Bellyswirls Presented by Courtesy Moline/Kimberly BMW</strong><br />\n<br />\nWith a constant touring schedule\, 3 independently released albums\, a high energy live show and a charismatic front person\, Wicked Liz &amp\; the Bellyswirls&nbsp\;have distinguished themselves as one of the Midwest&#39\;s hardest working bands!<br />\n<br />\n<span style="color:#FF0000\;">Food and beverage available for purchase on site. Bring a lawn chair. No outside alcohol.</span><br />\n&nbsp\;
LOCATION:The Plaza at Bass Street Landing 17th Street & River Drive Moline\, IL 61265
UID:e.2843.12098
SEQUENCE:3
DTSTAMP:20260423T092700Z
URL:https://member.quadcitieschamber.com/events/details/moline-centre-summer-concert-series-featuring-wicked-liz-the-bellyswirls-06-21-2018-12098
END:VEVENT

END:VCALENDAR
