BEGIN:VCALENDAR
VERSION:2.0
PRODID:-//ChamberMaster//Event Calendar 2.0//EN
METHOD:PUBLISH
X-PUBLISHED-TTL:P3D
REFRESH-INTERVAL:P3D
CALSCALE:GREGORIAN
BEGIN:VEVENT
DTSTART:20131011T180000Z
DTEND:20131011T183000Z
X-MICROSOFT-CDO-ALLDAYEVENT:FALSE
SUMMARY:Moline Monument 90th Year Anniversary Ribbon Cutting
DESCRIPTION:Please join Moline Monument in celebrating their 90th year anniversary on Friday\, October 11th at 1:00pm Located at 4038 46th Ave. Moline\, IL 61265 (near Wal-Mart\, off John Deere Road). http://mapq.st/1fbxqWw.  Established in 1923\, Moline Monument has a deep history of providing memorials in the Quad Cities and surrounding areas.  Their workmanship is showcased in many cemeteries\, churches\, schools and homes in the area.  Moline Monuments are handcrafted and represent the unique individually of the ones they memorialize. They also offers cremation memorials\, benches\, vases\, cemetery repair\, statuary and engraved rocks for landscaping and much more.  For more information please visit www.molinemnument.com.
X-ALT-DESC;FMTTYPE=text/html:<DIV style="FONT-FAMILY: Arial"><P style="MARGIN: 0in 0in 0pt" class=MsoNormal><FONT face=Calibri>Please join Moline Monument in celebrating their 90<SUP>th</SUP> year anniversary on Friday\, October 11<SUP>th</SUP> at 1:00pm Located at 4038 46<SUP>th</SUP> Ave. Moline\, IL 61265 (near Wal-Mart\, off John Deere Road). </FONT><A href="http://mapq.st/1fbxqWw"><FONT face="Times New Roman">http://mapq.st/1fbxqWw</FONT></A><FONT face=Calibri>. <?xml:namespace prefix = o ns = "urn:schemas-microsoft-com:office:office" /><o:p></o:p></FONT></P><P style="MARGIN: 0in 0in 0pt" class=MsoNormal><o:p><FONT face=Calibri>&nbsp\;</FONT></o:p></P><P style="MARGIN: 0in 0in 0pt" class=MsoNormal><FONT face=Calibri>Established in 1923\, Moline Monument has a deep history of providing memorials in the Quad Cities and surrounding areas.<SPAN style="mso-spacerun: yes">&nbsp\; </SPAN>Their workmanship is showcased in many cemeteries\, churches\, schools and homes in the area.<SPAN style="mso-spacerun: yes">&nbsp\; </SPAN>Moline Monuments are handcrafted and represent the unique individually of the ones they memorialize.<o:p></o:p></FONT></P><P style="MARGIN: 0in 0in 0pt" class=MsoNormal><o:p><FONT face=Calibri>&nbsp\;</FONT></o:p></P><P style="MARGIN: 0in 0in 0pt" class=MsoNormal><FONT face=Calibri>They also offers cremation memorials\, benche</FONT><A name=_MailAutoSig><FONT face=Calibri>s\,</FONT></A><FONT face=Calibri> vases\, cemetery repair\, statuary and engraved rocks for landscaping and much more.<SPAN style="mso-spacerun: yes">&nbsp\; </SPAN>For more information please visit </FONT><A href="http://www.molinemnument.com"><FONT face="Times New Roman">www.molinemnument.com</FONT></A><FONT face=Calibri>.<o:p></o:p></FONT></P></DIV>
LOCATION:Moline Monument Company4038 46th Avenue Moline\, IL 61265
UID:e.2843.696
SEQUENCE:3
DTSTAMP:20260421T201712Z
URL:https://member.quadcitieschamber.com/events/details/moline-monument-90th-year-anniversary-ribbon-cutting-10-11-2013-696
END:VEVENT

END:VCALENDAR
